BEGIN:VCALENDAR
VERSION:2.0
PRODID:-//Collège Emilien Adam de Villiers - ECPv6.15.20//NONSGML v1.0//EN
CALSCALE:GREGORIAN
METHOD:PUBLISH
X-WR-CALNAME:Collège Emilien Adam de Villiers
X-ORIGINAL-URL:https://etab.ac-reunion.fr/clg-adam-de-villiers
X-WR-CALDESC:Évènements pour Collège Emilien Adam de Villiers
REFRESH-INTERVAL;VALUE=DURATION:PT1H
X-Robots-Tag:noindex
X-PUBLISHED-TTL:PT1H
BEGIN:VTIMEZONE
TZID:Indian/Reunion
BEGIN:STANDARD
TZOFFSETFROM:+0400
TZOFFSETTO:+0400
TZNAME:+04
DTSTART:20220101T000000
END:STANDARD
END:VTIMEZONE
BEGIN:VEVENT
DTSTART;TZID=Indian/Reunion:20230601T073000
DTEND;TZID=Indian/Reunion:20230601T082500
DTSTAMP:20260425T005411
CREATED:20230531T181451Z
LAST-MODIFIED:20230613T050332Z
UID:10058-1685604600-1685607900@etab.ac-reunion.fr
SUMMARY:Conseil S2 3° Salangane
DESCRIPTION:
URL:https://etab.ac-reunion.fr/clg-adam-de-villiers/event/conseil-s2-3-salangane/
CATEGORIES:Conseil de classe
END:VEVENT
BEGIN:VEVENT
DTSTART;TZID=Indian/Reunion:20230601T104500
DTEND;TZID=Indian/Reunion:20230601T114000
DTSTAMP:20260425T005411
CREATED:20230531T181813Z
LAST-MODIFIED:20230613T050340Z
UID:10064-1685616300-1685619600@etab.ac-reunion.fr
SUMMARY:Conseil S2 3° Mascarin
DESCRIPTION:
URL:https://etab.ac-reunion.fr/clg-adam-de-villiers/event/conseil-s2-3-mascarin/
CATEGORIES:Conseil de classe
END:VEVENT
END:VCALENDAR