BEGIN:VCALENDAR
VERSION:2.0
PRODID:-//Collège Emilien Adam de Villiers - ECPv6.15.20//NONSGML v1.0//EN
CALSCALE:GREGORIAN
METHOD:PUBLISH
X-ORIGINAL-URL:https://etab.ac-reunion.fr/clg-adam-de-villiers
X-WR-CALDESC:Évènements pour Collège Emilien Adam de Villiers
REFRESH-INTERVAL;VALUE=DURATION:PT1H
X-Robots-Tag:noindex
X-PUBLISHED-TTL:PT1H
BEGIN:VTIMEZONE
TZID:Indian/Reunion
BEGIN:STANDARD
TZOFFSETFROM:+0400
TZOFFSETTO:+0400
TZNAME:+04
DTSTART:20220101T000000
END:STANDARD
END:VTIMEZONE
BEGIN:VEVENT
DTSTART;TZID=Indian/Reunion:20230619T074500
DTEND;TZID=Indian/Reunion:20230619T123000
DTSTAMP:20260425T005513
CREATED:20230613T045752Z
LAST-MODIFIED:20230613T050426Z
UID:10297-1687160700-1687177800@etab.ac-reunion.fr
SUMMARY:Sortie pédagogique à Acroroc
DESCRIPTION:Elèves concernés : 50 élèves de 5°\, 4° et 3° \n\n\n\nLieu : Acroroc (St Pierre) \n\n\n\nAccompagnateurs : Mme Ruellan\, M. Foncarnier\, Mme Jono et M. Mazzoli
URL:https://etab.ac-reunion.fr/clg-adam-de-villiers/event/sortie-pedagogique-a-acroroc/
CATEGORIES:Disciplines sportives,Sortie pédagogique
END:VEVENT
BEGIN:VEVENT
DTSTART;TZID=Indian/Reunion:20230619T092000
DTEND;TZID=Indian/Reunion:20230619T161000
DTSTAMP:20260425T005513
CREATED:20230613T050829Z
LAST-MODIFIED:20230613T051137Z
UID:10301-1687166400-1687191000@etab.ac-reunion.fr
SUMMARY:Accueil des CM2
DESCRIPTION:
URL:https://etab.ac-reunion.fr/clg-adam-de-villiers/event/accueil-des-cm2/
CATEGORIES:Pédagogie,Vie scolaire
END:VEVENT
BEGIN:VEVENT
DTSTART;TZID=Indian/Reunion:20230619T141500
DTEND;TZID=Indian/Reunion:20230619T152500
DTSTAMP:20260425T005513
CREATED:20230613T052949Z
LAST-MODIFIED:20230613T053629Z
UID:10319-1687184100-1687188300@etab.ac-reunion.fr
SUMMARY:Conseil de classe S2 5° Vanille
DESCRIPTION:
URL:https://etab.ac-reunion.fr/clg-adam-de-villiers/event/conseil-de-classe-5-vanille/
CATEGORIES:Conseil de classe
END:VEVENT
BEGIN:VEVENT
DTSTART;TZID=Indian/Reunion:20230619T141500
DTEND;TZID=Indian/Reunion:20230619T152500
DTSTAMP:20260425T005513
CREATED:20230613T053131Z
LAST-MODIFIED:20230613T053144Z
UID:10321-1687184100-1687188300@etab.ac-reunion.fr
SUMMARY:Conseil de classe 4° Tamarin
DESCRIPTION:
URL:https://etab.ac-reunion.fr/clg-adam-de-villiers/event/conseil-de-classe-tamarin/
CATEGORIES:Conseil de classe
END:VEVENT
BEGIN:VEVENT
DTSTART;TZID=Indian/Reunion:20230619T152500
DTEND;TZID=Indian/Reunion:20230619T163000
DTSTAMP:20260425T005513
CREATED:20230613T053233Z
LAST-MODIFIED:20230613T053616Z
UID:10324-1687188300-1687192200@etab.ac-reunion.fr
SUMMARY:Conseil de classe S2 4° Mahot
DESCRIPTION:
URL:https://etab.ac-reunion.fr/clg-adam-de-villiers/event/conseil-de-classe-4-mahot/
CATEGORIES:Conseil de classe
END:VEVENT
BEGIN:VEVENT
DTSTART;TZID=Indian/Reunion:20230619T152500
DTEND;TZID=Indian/Reunion:20230619T163000
DTSTAMP:20260425T005513
CREATED:20230613T053329Z
LAST-MODIFIED:20230613T053604Z
UID:10326-1687188300-1687192200@etab.ac-reunion.fr
SUMMARY:Conseil de classe S2 5° Ylang
DESCRIPTION:
URL:https://etab.ac-reunion.fr/clg-adam-de-villiers/event/conseil-de-classe-5-ylang/
CATEGORIES:Conseil de classe
END:VEVENT
BEGIN:VEVENT
DTSTART;TZID=Indian/Reunion:20230619T163000
DTEND;TZID=Indian/Reunion:20230619T173000
DTSTAMP:20260425T005513
CREATED:20230613T053550Z
LAST-MODIFIED:20230613T053550Z
UID:10328-1687192200-1687195800@etab.ac-reunion.fr
SUMMARY:Conseil de classe S2 5° Géranium
DESCRIPTION:
URL:https://etab.ac-reunion.fr/clg-adam-de-villiers/event/conseil-de-classe-s2-5-geranium/
CATEGORIES:Conseil de classe
END:VEVENT
BEGIN:VEVENT
DTSTART;TZID=Indian/Reunion:20230619T163000
DTEND;TZID=Indian/Reunion:20230619T173000
DTSTAMP:20260425T005513
CREATED:20230613T053708Z
LAST-MODIFIED:20230613T053708Z
UID:10333-1687192200-1687195800@etab.ac-reunion.fr
SUMMARY:Conseil de classe S2 4° Palmiste
DESCRIPTION:
URL:https://etab.ac-reunion.fr/clg-adam-de-villiers/event/conseil-de-classe-s2-4-palmiste-2/
CATEGORIES:Conseil de classe
END:VEVENT
END:VCALENDAR