BEGIN:VCALENDAR
VERSION:2.0
PRODID:-//Collège Emilien Adam de Villiers - ECPv6.15.20//NONSGML v1.0//EN
CALSCALE:GREGORIAN
METHOD:PUBLISH
X-WR-CALNAME:Collège Emilien Adam de Villiers
X-ORIGINAL-URL:https://etab.ac-reunion.fr/clg-adam-de-villiers
X-WR-CALDESC:Évènements pour Collège Emilien Adam de Villiers
REFRESH-INTERVAL;VALUE=DURATION:PT1H
X-Robots-Tag:noindex
X-PUBLISHED-TTL:PT1H
BEGIN:VTIMEZONE
TZID:Indian/Reunion
BEGIN:STANDARD
TZOFFSETFROM:+0400
TZOFFSETTO:+0400
TZNAME:+04
DTSTART:20220101T000000
END:STANDARD
END:VTIMEZONE
BEGIN:VEVENT
DTSTART;TZID=Indian/Reunion:20230626T100000
DTEND;TZID=Indian/Reunion:20230626T113000
DTSTAMP:20260424T233335
CREATED:20230613T052142Z
LAST-MODIFIED:20230613T052142Z
UID:10309-1687773600-1687779000@etab.ac-reunion.fr
SUMMARY:Epreuve écrite du DNB : Français 1° partie
DESCRIPTION:Installation en salle 30 minutes avant l’épreuve
URL:https://etab.ac-reunion.fr/clg-adam-de-villiers/event/epreuve-ecrite-du-dnb-francais-1-partie/
CATEGORIES:Examen DNB
END:VEVENT
BEGIN:VEVENT
DTSTART;TZID=Indian/Reunion:20230626T114500
DTEND;TZID=Indian/Reunion:20230626T131500
DTSTAMP:20260424T233335
CREATED:20230613T052244Z
LAST-MODIFIED:20230613T052618Z
UID:10311-1687779900-1687785300@etab.ac-reunion.fr
SUMMARY:Epreuve écrite du DNB : Français 2° partie
DESCRIPTION:
URL:https://etab.ac-reunion.fr/clg-adam-de-villiers/event/epreuve-ecrite-du-dnb-francais-2-partie/
CATEGORIES:Examen DNB
END:VEVENT
BEGIN:VEVENT
DTSTART;TZID=Indian/Reunion:20230626T153000
DTEND;TZID=Indian/Reunion:20230626T173000
DTSTAMP:20260424T233335
CREATED:20230613T052354Z
LAST-MODIFIED:20230620T043328Z
UID:10313-1687793400-1687800600@etab.ac-reunion.fr
SUMMARY:Epreuve écrite du DNB : Mathématiques
DESCRIPTION:Installation en salle 30 minutes avant l’épreuve
URL:https://etab.ac-reunion.fr/clg-adam-de-villiers/event/epreuve-ecrite-du-dnb-mathematiques/
CATEGORIES:Examen DNB
END:VEVENT
END:VCALENDAR