BEGIN:VCALENDAR
VERSION:2.0
PRODID:-//Collège Emilien Adam de Villiers - ECPv6.15.20//NONSGML v1.0//EN
CALSCALE:GREGORIAN
METHOD:PUBLISH
X-ORIGINAL-URL:https://etab.ac-reunion.fr/clg-adam-de-villiers
X-WR-CALDESC:Évènements pour Collège Emilien Adam de Villiers
REFRESH-INTERVAL;VALUE=DURATION:PT1H
X-Robots-Tag:noindex
X-PUBLISHED-TTL:PT1H
BEGIN:VTIMEZONE
TZID:Indian/Reunion
BEGIN:STANDARD
TZOFFSETFROM:+0400
TZOFFSETTO:+0400
TZNAME:+04
DTSTART:20220101T000000
END:STANDARD
END:VTIMEZONE
BEGIN:VEVENT
DTSTART;TZID=Indian/Reunion:20230918T080000
DTEND;TZID=Indian/Reunion:20230922T170000
DTSTAMP:20260424T203833
CREATED:20230905T051318Z
LAST-MODIFIED:20230905T140128Z
UID:10490-1695024000-1695402000@etab.ac-reunion.fr
SUMMARY:Campagne électorale Délégués de classe
DESCRIPTION:
URL:https://etab.ac-reunion.fr/clg-adam-de-villiers/event/campagne-electorale-delegues-de-classe/
CATEGORIES:Vie scolaire
END:VEVENT
END:VCALENDAR