BEGIN:VCALENDAR
VERSION:2.0
PRODID:-//Collège Emilien Adam de Villiers - ECPv6.15.20//NONSGML v1.0//EN
CALSCALE:GREGORIAN
METHOD:PUBLISH
X-WR-CALNAME:Collège Emilien Adam de Villiers
X-ORIGINAL-URL:https://etab.ac-reunion.fr/clg-adam-de-villiers
X-WR-CALDESC:Évènements pour Collège Emilien Adam de Villiers
REFRESH-INTERVAL;VALUE=DURATION:PT1H
X-Robots-Tag:noindex
X-PUBLISHED-TTL:PT1H
BEGIN:VTIMEZONE
TZID:Indian/Reunion
BEGIN:STANDARD
TZOFFSETFROM:+0400
TZOFFSETTO:+0400
TZNAME:+04
DTSTART:20220101T000000
END:STANDARD
END:VTIMEZONE
BEGIN:VEVENT
DTSTART;TZID=Indian/Reunion:20231102T080000
DTEND;TZID=Indian/Reunion:20231102T153000
DTSTAMP:20260424T174645
CREATED:20231102T065235Z
LAST-MODIFIED:20231102T065348Z
UID:10678-1698912000-1698939000@etab.ac-reunion.fr
SUMMARY:Sortie pédagogique 5° Géranium et 5° Ylang
DESCRIPTION:Elèves concernés : 5° Géranium et 5° Ylang \n\n\n\nLieu : La Cité du Volcan (Le Tampon) \n\n\n\nAccompagnateurs : Mme Caro V.\, Mme Naheli et Mme Payet I.
URL:https://etab.ac-reunion.fr/clg-adam-de-villiers/event/sortie-pedagogique-cite-du-volcan-2/
CATEGORIES:Disciplines scientifiques,Sortie pédagogique
END:VEVENT
END:VCALENDAR