BEGIN:VCALENDAR
VERSION:2.0
PRODID:-//Collège Emilien Adam de Villiers - ECPv6.15.20//NONSGML v1.0//EN
CALSCALE:GREGORIAN
METHOD:PUBLISH
X-WR-CALNAME:Collège Emilien Adam de Villiers
X-ORIGINAL-URL:https://etab.ac-reunion.fr/clg-adam-de-villiers
X-WR-CALDESC:Évènements pour Collège Emilien Adam de Villiers
REFRESH-INTERVAL;VALUE=DURATION:PT1H
X-Robots-Tag:noindex
X-PUBLISHED-TTL:PT1H
BEGIN:VTIMEZONE
TZID:Indian/Reunion
BEGIN:STANDARD
TZOFFSETFROM:+0400
TZOFFSETTO:+0400
TZNAME:+04
DTSTART:20220101T000000
END:STANDARD
END:VTIMEZONE
BEGIN:VEVENT
DTSTART;TZID=Indian/Reunion:20231121T083000
DTEND;TZID=Indian/Reunion:20231121T150000
DTSTAMP:20260424T174644
CREATED:20231113T135602Z
LAST-MODIFIED:20231113T140024Z
UID:10711-1700555400-1700578800@etab.ac-reunion.fr
SUMMARY:Sortie pédagogique 5° Baie-Rose
DESCRIPTION:Elèves concernés : 5° Baie-Rose \n\n\n\nLieu : Chemin Calbanon (Saint-Pierre) \n\n\n\nAccompagnateurs : Mme Quenou et Mme Anzoully
URL:https://etab.ac-reunion.fr/clg-adam-de-villiers/event/sortie-pedagogique-5-baie-rose-4/
CATEGORIES:Disciplines linguistiques,Sortie pédagogique
END:VEVENT
BEGIN:VEVENT
DTSTART;TZID=Indian/Reunion:20231121T123000
DTEND;TZID=Indian/Reunion:20231121T161500
DTSTAMP:20260424T174644
CREATED:20231113T140008Z
LAST-MODIFIED:20231113T140008Z
UID:10713-1700569800-1700583300@etab.ac-reunion.fr
SUMMARY:Sortie pédagogique 6°
DESCRIPTION:Elèves concernés :  \n\n\n\nLieu : Ecran Jeunes Moulin à Café (Saint-Pierre) \n\n\n\nAccompagnateurs : M. Pointeau\, Mme Léocadie\, M. Ramsamy\, M. Caro\, Mme Caro V. et Mme Duquesne
URL:https://etab.ac-reunion.fr/clg-adam-de-villiers/event/sortie-pedagogique-6/
CATEGORIES:Disciplines artistiques,Disciplines humanistes,Sortie pédagogique
END:VEVENT
END:VCALENDAR