BEGIN:VCALENDAR
VERSION:2.0
PRODID:-//Collège Emilien Adam de Villiers - ECPv6.15.20//NONSGML v1.0//EN
CALSCALE:GREGORIAN
METHOD:PUBLISH
X-ORIGINAL-URL:https://etab.ac-reunion.fr/clg-adam-de-villiers
X-WR-CALDESC:Évènements pour Collège Emilien Adam de Villiers
REFRESH-INTERVAL;VALUE=DURATION:PT1H
X-Robots-Tag:noindex
X-PUBLISHED-TTL:PT1H
BEGIN:VTIMEZONE
TZID:Indian/Reunion
BEGIN:STANDARD
TZOFFSETFROM:+0400
TZOFFSETTO:+0400
TZNAME:+04
DTSTART:20220101T000000
END:STANDARD
END:VTIMEZONE
BEGIN:VEVENT
DTSTART;TZID=Indian/Reunion:20231124T080000
DTEND;TZID=Indian/Reunion:20231124T114000
DTSTAMP:20260424T174806
CREATED:20231113T140726Z
LAST-MODIFIED:20231113T140726Z
UID:10719-1700812800-1700826000@etab.ac-reunion.fr
SUMMARY:Sortie pédagogique 4° Latanier et 3° Sterne
DESCRIPTION:Elèves concernés : 4° Latanier et 3° Sterne \n\n\n\nLieu : Cinéma Rex (Saint-Pierre) \n\n\n\nAccompagnateurs : Mme Quenou\, M. Caro et M. Grondin
URL:https://etab.ac-reunion.fr/clg-adam-de-villiers/event/sortie-pedagogique-4-latanier-et-3-sterne/
CATEGORIES:Disciplines artistiques,Disciplines humanistes,Sortie pédagogique
END:VEVENT
BEGIN:VEVENT
DTSTART;TZID=Indian/Reunion:20231124T080000
DTEND;TZID=Indian/Reunion:20231124T150000
DTSTAMP:20260424T174806
CREATED:20231113T140434Z
LAST-MODIFIED:20231113T140434Z
UID:10717-1700812800-1700838000@etab.ac-reunion.fr
SUMMARY:Sortie pédagogique 4° Fanjan et 4° Mahot
DESCRIPTION:Elèves concernés : 4° Fanjan et 4° Mahot \n\n\n\nLieu : Musée de Stella Matutina (Saint-Leu) \n\n\n\nAccompagnateurs : Mme Caro P. et M. Delchet
URL:https://etab.ac-reunion.fr/clg-adam-de-villiers/event/sortie-pedagogique-4-fanjan-et-4-mahot-2/
CATEGORIES:Disciplines humanistes,Sortie pédagogique
END:VEVENT
END:VCALENDAR