BEGIN:VCALENDAR
VERSION:2.0
PRODID:-//Collège Emilien Adam de Villiers - ECPv6.15.20//NONSGML v1.0//EN
CALSCALE:GREGORIAN
METHOD:PUBLISH
X-WR-CALNAME:Collège Emilien Adam de Villiers
X-ORIGINAL-URL:https://etab.ac-reunion.fr/clg-adam-de-villiers
X-WR-CALDESC:Évènements pour Collège Emilien Adam de Villiers
REFRESH-INTERVAL;VALUE=DURATION:PT1H
X-Robots-Tag:noindex
X-PUBLISHED-TTL:PT1H
BEGIN:VTIMEZONE
TZID:Indian/Reunion
BEGIN:STANDARD
TZOFFSETFROM:+0400
TZOFFSETTO:+0400
TZNAME:+04
DTSTART:20220101T000000
END:STANDARD
END:VTIMEZONE
BEGIN:VEVENT
DTSTART;TZID=Indian/Reunion:20231205T153000
DTEND;TZID=Indian/Reunion:20231205T163000
DTSTAMP:20260424T162229
CREATED:20231202T070730Z
LAST-MODIFIED:20231202T070730Z
UID:10752-1701790200-1701793800@etab.ac-reunion.fr
SUMMARY:Conseil de classe S1 5° Safran
DESCRIPTION:
URL:https://etab.ac-reunion.fr/clg-adam-de-villiers/event/conseil-de-classe-s1-5-safran-2/
CATEGORIES:Conseil de classe
END:VEVENT
BEGIN:VEVENT
DTSTART;TZID=Indian/Reunion:20231205T163000
DTEND;TZID=Indian/Reunion:20231205T173000
DTSTAMP:20260424T162229
CREATED:20231202T070932Z
LAST-MODIFIED:20231202T071024Z
UID:10754-1701793800-1701797400@etab.ac-reunion.fr
SUMMARY:Conseil de classe S1 5° Vanille
DESCRIPTION:
URL:https://etab.ac-reunion.fr/clg-adam-de-villiers/event/conseil-de-classe-s1-5-vanille-2/
CATEGORIES:Conseil de classe
END:VEVENT
BEGIN:VEVENT
DTSTART;TZID=Indian/Reunion:20231205T173000
DTEND;TZID=Indian/Reunion:20231205T183000
DTSTAMP:20260424T162229
CREATED:20231202T071151Z
LAST-MODIFIED:20231202T071151Z
UID:10756-1701797400-1701801000@etab.ac-reunion.fr
SUMMARY:Conseil de classe S1 5° Géranium
DESCRIPTION:
URL:https://etab.ac-reunion.fr/clg-adam-de-villiers/event/conseil-de-classe-s1-5-geranium-2/
CATEGORIES:Conseil de classe
END:VEVENT
END:VCALENDAR