BEGIN:VCALENDAR
VERSION:2.0
PRODID:-//Collège Emilien Adam de Villiers - ECPv6.15.20//NONSGML v1.0//EN
CALSCALE:GREGORIAN
METHOD:PUBLISH
X-WR-CALNAME:Collège Emilien Adam de Villiers
X-ORIGINAL-URL:https://etab.ac-reunion.fr/clg-adam-de-villiers
X-WR-CALDESC:Évènements pour Collège Emilien Adam de Villiers
REFRESH-INTERVAL;VALUE=DURATION:PT1H
X-Robots-Tag:noindex
X-PUBLISHED-TTL:PT1H
BEGIN:VTIMEZONE
TZID:Indian/Reunion
BEGIN:STANDARD
TZOFFSETFROM:+0400
TZOFFSETTO:+0400
TZNAME:+04
DTSTART:20230101T000000
END:STANDARD
END:VTIMEZONE
BEGIN:VEVENT
DTSTART;TZID=Indian/Reunion:20241010T080000
DTEND;TZID=Indian/Reunion:20241010T150000
DTSTAMP:20260424T023504
CREATED:20241007T134831Z
LAST-MODIFIED:20241007T134831Z
UID:11321-1728547200-1728572400@etab.ac-reunion.fr
SUMMARY:Sortie pédagogique 4° Tamarin et 6° Corail
DESCRIPTION:Elèves concernés : 4° Tamarin et 6° Corail \n\n\n\nLieu : Village des sciences Campus St Pierre \n\n\n\nAccompagnateurs : M. Ramsamy\, M. Payet\, Mme Anzoully et Mme Naheli
URL:https://etab.ac-reunion.fr/clg-adam-de-villiers/event/sortie-pedagogique-4-tamarin-et-6-corail/
CATEGORIES:Découverte Professionnelle,Disciplines scientifiques,Sortie pédagogique
END:VEVENT
BEGIN:VEVENT
DTSTART;TZID=Indian/Reunion:20241010T080000
DTEND;TZID=Indian/Reunion:20241010T161500
DTSTAMP:20260424T023504
CREATED:20241007T135042Z
LAST-MODIFIED:20241007T135042Z
UID:11323-1728547200-1728576900@etab.ac-reunion.fr
SUMMARY:Sortie pédagogique Délégués 6° et 5°
DESCRIPTION:Elèves concernés : Délégués de classe élu (6° et 5°) \n\n\n\nLieu : Médiathèque de Grand Bois et Laser Game (St Pierre) \n\n\n\nAccompagnateurs : M. Bigot et Mme Miladi
URL:https://etab.ac-reunion.fr/clg-adam-de-villiers/event/sortie-pedagogique-delegues-6-et-5/
CATEGORIES:Sortie pédagogique,Vie scolaire
END:VEVENT
END:VCALENDAR