BEGIN:VCALENDAR
VERSION:2.0
PRODID:-//Collège Emilien Adam de Villiers - ECPv6.15.20//NONSGML v1.0//EN
CALSCALE:GREGORIAN
METHOD:PUBLISH
X-ORIGINAL-URL:https://etab.ac-reunion.fr/clg-adam-de-villiers
X-WR-CALDESC:Évènements pour Collège Emilien Adam de Villiers
REFRESH-INTERVAL;VALUE=DURATION:PT1H
X-Robots-Tag:noindex
X-PUBLISHED-TTL:PT1H
BEGIN:VTIMEZONE
TZID:Indian/Reunion
BEGIN:STANDARD
TZOFFSETFROM:+0400
TZOFFSETTO:+0400
TZNAME:+04
DTSTART:20240101T000000
END:STANDARD
END:VTIMEZONE
BEGIN:VEVENT
DTSTART;TZID=Indian/Reunion:20251104T080000
DTEND;TZID=Indian/Reunion:20251104T151000
DTSTAMP:20260423T082322
CREATED:20251106T133039Z
LAST-MODIFIED:20251106T133739Z
UID:12135-1762243200-1762269000@etab.ac-reunion.fr
SUMMARY:Formation des délégués 6°-5°
DESCRIPTION:Elèves concernés : élèves délégués de classe élus de 6° et 5° \n\n\n\nLieu : Médiathèque de Grand Bois (St Pierre) le matin / Laser Game (St Pierre) l’après-midi \n\n\n\nAccompagnateurs : M. Bigot et Mme Miladi
URL:https://etab.ac-reunion.fr/clg-adam-de-villiers/event/formation-des-delegues-6-5/
CATEGORIES:Sortie pédagogique,Vie scolaire
END:VEVENT
END:VCALENDAR