BEGIN:VCALENDAR
VERSION:2.0
PRODID:-//Collège Emilien Adam de Villiers - ECPv6.15.20//NONSGML v1.0//EN
CALSCALE:GREGORIAN
METHOD:PUBLISH
X-ORIGINAL-URL:https://etab.ac-reunion.fr/clg-adam-de-villiers
X-WR-CALDESC:Évènements pour Collège Emilien Adam de Villiers
REFRESH-INTERVAL;VALUE=DURATION:PT1H
X-Robots-Tag:noindex
X-PUBLISHED-TTL:PT1H
BEGIN:VTIMEZONE
TZID:Indian/Reunion
BEGIN:STANDARD
TZOFFSETFROM:+0400
TZOFFSETTO:+0400
TZNAME:+04
DTSTART:20240101T000000
END:STANDARD
END:VTIMEZONE
BEGIN:VEVENT
DTSTART;TZID=Indian/Reunion:20251110T080000
DTEND;TZID=Indian/Reunion:20251110T151000
DTSTAMP:20260423T082322
CREATED:20251109T141047Z
LAST-MODIFIED:20251109T141047Z
UID:12145-1762761600-1762787400@etab.ac-reunion.fr
SUMMARY:Sortie pédagogique 6° Tuit-Tuit
DESCRIPTION:Elèves concernés : 6° Tuit-Tuit \n\n\n\nLieu : Petite Plaine Forêt de Bébour (Plaine des Palmistes) \n\n\n\nAccompagnateurs : Mme Ruella\, Mme Quenou et 2 parents
URL:https://etab.ac-reunion.fr/clg-adam-de-villiers/event/sortie-pedagogique-6-tuit-tuit-3/
CATEGORIES:Disciplines linguistiques,Disciplines sportives,Sortie pédagogique
END:VEVENT
BEGIN:VEVENT
DTSTART;TZID=Indian/Reunion:20251110T124500
DTEND;TZID=Indian/Reunion:20251110T160000
DTSTAMP:20260423T082322
CREATED:20251109T141233Z
LAST-MODIFIED:20251109T142529Z
UID:12147-1762778700-1762790400@etab.ac-reunion.fr
SUMMARY:Sortie pédagogique 15 élèves LCE 4° + 13 correspondants slovaques
DESCRIPTION:Elèves concernés : 15 élèves de LCE 4° + 13 correspondants slovaques \n\n\n\nLieu : Ville de Saint-Pierre \n\n\n\nAccompagnatrices : Mme Lecrosnier et Mme Nativel
URL:https://etab.ac-reunion.fr/clg-adam-de-villiers/event/sortie-pedagogique-eleves-lce-4-13-eleves-slovaques/
CATEGORIES:Echanges linguistiques,Sortie pédagogique
END:VEVENT
END:VCALENDAR