BEGIN:VCALENDAR
VERSION:2.0
PRODID:-//Collège Emilien Adam de Villiers - ECPv6.15.20//NONSGML v1.0//EN
CALSCALE:GREGORIAN
METHOD:PUBLISH
X-WR-CALNAME:Collège Emilien Adam de Villiers
X-ORIGINAL-URL:https://etab.ac-reunion.fr/clg-adam-de-villiers
X-WR-CALDESC:Évènements pour Collège Emilien Adam de Villiers
REFRESH-INTERVAL;VALUE=DURATION:PT1H
X-Robots-Tag:noindex
X-PUBLISHED-TTL:PT1H
BEGIN:VTIMEZONE
TZID:Indian/Reunion
BEGIN:STANDARD
TZOFFSETFROM:+0400
TZOFFSETTO:+0400
TZNAME:+04
DTSTART:20240101T000000
END:STANDARD
END:VTIMEZONE
BEGIN:VEVENT
DTSTART;TZID=Indian/Reunion:20251113T073000
DTEND;TZID=Indian/Reunion:20251113T151000
DTSTAMP:20260423T082404
CREATED:20251109T141959Z
LAST-MODIFIED:20251109T142207Z
UID:12152-1763019000-1763046600@etab.ac-reunion.fr
SUMMARY:Sortie pédagogique 19 élèves de LCE 3° + 10 élèves correspondants slovaques
DESCRIPTION:Elèves concernés : 19 élèves de LCE 3° + 10 élèves correspondants slovaques \n\n\n\nLieu : Lagon de l’Hermitage (St-Paul) et Kélonia (St Leu) \n\n\n\nAccompagnateurs : M. Delchet et AED
URL:https://etab.ac-reunion.fr/clg-adam-de-villiers/event/sortie-pedagogique-19-eleves-de-lce-3-10-eleves-correspondants-slovaques/
CATEGORIES:Echanges linguistiques,Sortie pédagogique
END:VEVENT
BEGIN:VEVENT
DTSTART;TZID=Indian/Reunion:20251113T080000
DTEND;TZID=Indian/Reunion:20251113T151000
DTSTAMP:20260423T082404
CREATED:20251109T141600Z
LAST-MODIFIED:20251109T141600Z
UID:12149-1763020800-1763046600@etab.ac-reunion.fr
SUMMARY:Sortie pédagogique Formation Délégués 4°-3°
DESCRIPTION:Elèves concernés : élèves délégués de 4° et 3° \n\n\n\nLieu : FOS Réunion – La Saline (St Paul) \n\n\n\nAccompagnateurs : M. Bigot\, Mme Miladi\, Mme Lauret Aurélie et M. Rassby
URL:https://etab.ac-reunion.fr/clg-adam-de-villiers/event/sortie-pedagogique-formation-delegues-4-3/
CATEGORIES:Sortie pédagogique,Vie scolaire
END:VEVENT
END:VCALENDAR