BEGIN:VCALENDAR
VERSION:2.0
PRODID:-//Collège Emilien Adam de Villiers - ECPv6.15.20//NONSGML v1.0//EN
CALSCALE:GREGORIAN
METHOD:PUBLISH
X-WR-CALNAME:Collège Emilien Adam de Villiers
X-ORIGINAL-URL:https://etab.ac-reunion.fr/clg-adam-de-villiers
X-WR-CALDESC:Évènements pour Collège Emilien Adam de Villiers
REFRESH-INTERVAL;VALUE=DURATION:PT1H
X-Robots-Tag:noindex
X-PUBLISHED-TTL:PT1H
BEGIN:VTIMEZONE
TZID:Indian/Reunion
BEGIN:STANDARD
TZOFFSETFROM:+0400
TZOFFSETTO:+0400
TZNAME:+04
DTSTART:20240101T000000
END:STANDARD
END:VTIMEZONE
BEGIN:VEVENT
DTSTART;TZID=Indian/Reunion:20251114T073000
DTEND;TZID=Indian/Reunion:20251114T160000
DTSTAMP:20260423T082405
CREATED:20251109T142444Z
LAST-MODIFIED:20251109T142444Z
UID:12155-1763105400-1763136000@etab.ac-reunion.fr
SUMMARY:Sortie pédagogique 17 élèves de LCE 5° + 13 élèves correspondants slovaques
DESCRIPTION:Elèves concernés : 17 élèves de LCE 5° + 13 élèves correspondants slovaques \n\n\n\nLieu : Sortie au volcan + visite Cité du Volcan (Le Tampon) \n\n\n\nAccompagnatrices : Mme Lecrosnier\, Mme Caro et Mme Angeli
URL:https://etab.ac-reunion.fr/clg-adam-de-villiers/event/sortie-pedagogique-17-eleves-de-lce-5-13-eleves-correspondants-slovaques/
END:VEVENT
END:VCALENDAR