BEGIN:VCALENDAR
VERSION:2.0
PRODID:-//Collège Emilien Adam de Villiers - ECPv6.15.20//NONSGML v1.0//EN
CALSCALE:GREGORIAN
METHOD:PUBLISH
X-WR-CALNAME:Collège Emilien Adam de Villiers
X-ORIGINAL-URL:https://etab.ac-reunion.fr/clg-adam-de-villiers
X-WR-CALDESC:Évènements pour Collège Emilien Adam de Villiers
REFRESH-INTERVAL;VALUE=DURATION:PT1H
X-Robots-Tag:noindex
X-PUBLISHED-TTL:PT1H
BEGIN:VTIMEZONE
TZID:Indian/Reunion
BEGIN:STANDARD
TZOFFSETFROM:+0400
TZOFFSETTO:+0400
TZNAME:+04
DTSTART:20240101T000000
END:STANDARD
END:VTIMEZONE
BEGIN:VEVENT
DTSTART;TZID=Indian/Reunion:20251117T080000
DTEND;TZID=Indian/Reunion:20251121T170000
DTSTAMP:20260423T082404
CREATED:20251116T050027Z
LAST-MODIFIED:20251116T050857Z
UID:12187-1763366400-1763744400@etab.ac-reunion.fr
SUMMARY:Semaine stage 3° Mascarin / Merle / Papangue
DESCRIPTION:Séquence d’observation en entreprise
URL:https://etab.ac-reunion.fr/clg-adam-de-villiers/event/semaine-stage-3-mascarin-merle-papangue/
CATEGORIES:Découverte Professionnelle,Orientation post 3°
END:VEVENT
END:VCALENDAR