BEGIN:VCALENDAR
VERSION:2.0
PRODID:-//Collège Emilien Adam de Villiers - ECPv6.15.20//NONSGML v1.0//EN
CALSCALE:GREGORIAN
METHOD:PUBLISH
X-WR-CALNAME:Collège Emilien Adam de Villiers
X-ORIGINAL-URL:https://etab.ac-reunion.fr/clg-adam-de-villiers
X-WR-CALDESC:Évènements pour Collège Emilien Adam de Villiers
REFRESH-INTERVAL;VALUE=DURATION:PT1H
X-Robots-Tag:noindex
X-PUBLISHED-TTL:PT1H
BEGIN:VTIMEZONE
TZID:Indian/Reunion
BEGIN:STANDARD
TZOFFSETFROM:+0400
TZOFFSETTO:+0400
TZNAME:+04
DTSTART:20240101T000000
END:STANDARD
END:VTIMEZONE
BEGIN:VEVENT
DTSTART;TZID=Indian/Reunion:20250923T163000
DTEND;TZID=Indian/Reunion:20250923T183000
DTSTAMP:20260425T191732
CREATED:20251004T140624Z
LAST-MODIFIED:20251004T141418Z
UID:12111-1758645000-1758652200@etab.ac-reunion.fr
SUMMARY:Rencontre parents professeurs de rentrée 4°et 3°
DESCRIPTION:
URL:https://etab.ac-reunion.fr/clg-adam-de-villiers/event/rencontre-parents-professeurs-4-3-2/
CATEGORIES:Conseil de classe
END:VEVENT
BEGIN:VEVENT
DTSTART;TZID=Indian/Reunion:20250929T163000
DTEND;TZID=Indian/Reunion:20250929T180000
DTSTAMP:20260425T191732
CREATED:20251004T135428Z
LAST-MODIFIED:20251004T135649Z
UID:12102-1759163400-1759168800@etab.ac-reunion.fr
SUMMARY:Conseils flash Semestre 1
DESCRIPTION:6° Tec-Tec\, 6° Tuit-Tuit \n\n\n\n5° Jasmin\, 5° Safran\, 5° Ylang \n\n\n\n4° Palmiste
URL:https://etab.ac-reunion.fr/clg-adam-de-villiers/event/conseils-flash/
CATEGORIES:Conseil de classe
END:VEVENT
BEGIN:VEVENT
DTSTART;TZID=Indian/Reunion:20250930T163000
DTEND;TZID=Indian/Reunion:20250930T180000
DTSTAMP:20260425T191732
CREATED:20251004T135634Z
LAST-MODIFIED:20251004T135634Z
UID:12104-1759249800-1759255200@etab.ac-reunion.fr
SUMMARY:Conseils flash Semestre 1
DESCRIPTION:6° capucin\, 6° Corail \n\n\n\n4° Latanier \n\n\n\n3° Pétrel\, 3° Sterne\, 3° Timize
URL:https://etab.ac-reunion.fr/clg-adam-de-villiers/event/conseils-flash-semestre-1/
CATEGORIES:Conseil de classe
END:VEVENT
END:VCALENDAR