BEGIN:VCALENDAR
VERSION:2.0
PRODID:-//Collège Emilien Adam de Villiers - ECPv6.15.20//NONSGML v1.0//EN
CALSCALE:GREGORIAN
METHOD:PUBLISH
X-ORIGINAL-URL:https://etab.ac-reunion.fr/clg-adam-de-villiers
X-WR-CALDESC:Évènements pour Collège Emilien Adam de Villiers
REFRESH-INTERVAL;VALUE=DURATION:PT1H
X-Robots-Tag:noindex
X-PUBLISHED-TTL:PT1H
BEGIN:VTIMEZONE
TZID:Indian/Reunion
BEGIN:STANDARD
TZOFFSETFROM:+0400
TZOFFSETTO:+0400
TZNAME:+04
DTSTART:20240101T000000
END:STANDARD
END:VTIMEZONE
BEGIN:VEVENT
DTSTART;TZID=Indian/Reunion:20250331T123000
DTEND;TZID=Indian/Reunion:20250403T173000
DTSTAMP:20260426T051757
CREATED:20250329T134110Z
LAST-MODIFIED:20250405T073017Z
UID:11697-1743424200-1743701400@etab.ac-reunion.fr
SUMMARY:Conseils flash second semestre
DESCRIPTION:6° Capucin \n\n\n\n5° Vétiver \n\n\n\n4° Benjoin et Fanjan \n\n\n\n3° Merle et Papangue
URL:https://etab.ac-reunion.fr/clg-adam-de-villiers/event/conseils-flash-second-semestre/
CATEGORIES:Conseil de classe
END:VEVENT
END:VCALENDAR