BEGIN:VCALENDAR
VERSION:2.0
PRODID:-//Collège Emilien Adam de Villiers - ECPv6.15.20//NONSGML v1.0//EN
CALSCALE:GREGORIAN
METHOD:PUBLISH
X-WR-CALNAME:Collège Emilien Adam de Villiers
X-ORIGINAL-URL:https://etab.ac-reunion.fr/clg-adam-de-villiers
X-WR-CALDESC:Évènements pour Collège Emilien Adam de Villiers
REFRESH-INTERVAL;VALUE=DURATION:PT1H
X-Robots-Tag:noindex
X-PUBLISHED-TTL:PT1H
BEGIN:VTIMEZONE
TZID:Indian/Reunion
BEGIN:STANDARD
TZOFFSETFROM:+0400
TZOFFSETTO:+0400
TZNAME:+04
DTSTART:20240101T000000
END:STANDARD
END:VTIMEZONE
BEGIN:VEVENT
DTSTART;TZID=Indian/Reunion:20250616T153000
DTEND;TZID=Indian/Reunion:20250616T163000
DTSTAMP:20260426T022905
CREATED:20250614T055224Z
LAST-MODIFIED:20250614T055224Z
UID:11853-1750087800-1750091400@etab.ac-reunion.fr
SUMMARY:Conseil de classe S2 6° Babouk
DESCRIPTION:
URL:https://etab.ac-reunion.fr/clg-adam-de-villiers/event/conseil-de-classe-s2-6-babouk-3/
CATEGORIES:Conseil de classe
END:VEVENT
BEGIN:VEVENT
DTSTART;TZID=Indian/Reunion:20250616T153000
DTEND;TZID=Indian/Reunion:20250616T163000
DTSTAMP:20260426T022905
CREATED:20250614T060020Z
LAST-MODIFIED:20250614T060038Z
UID:11862-1750087800-1750091400@etab.ac-reunion.fr
SUMMARY:Conseil de classe S2 5° Géranium
DESCRIPTION:
URL:https://etab.ac-reunion.fr/clg-adam-de-villiers/event/conseil-de-classe-s2-5-geranium-4/
CATEGORIES:Conseil de classe
END:VEVENT
BEGIN:VEVENT
DTSTART;TZID=Indian/Reunion:20250616T163000
DTEND;TZID=Indian/Reunion:20250616T173000
DTSTAMP:20260426T022905
CREATED:20250614T055607Z
LAST-MODIFIED:20250614T055929Z
UID:11855-1750091400-1750095000@etab.ac-reunion.fr
SUMMARY:Conseil de classe S2 5° Vétiver
DESCRIPTION:
URL:https://etab.ac-reunion.fr/clg-adam-de-villiers/event/conseil-de-classe-s2-5-geranium-3/
CATEGORIES:Conseil de classe
END:VEVENT
BEGIN:VEVENT
DTSTART;TZID=Indian/Reunion:20250616T163000
DTEND;TZID=Indian/Reunion:20250616T173000
DTSTAMP:20260426T022905
CREATED:20250614T060133Z
LAST-MODIFIED:20250614T060134Z
UID:11864-1750091400-1750095000@etab.ac-reunion.fr
SUMMARY:Conseil de classe S2 6° Tuit-Tuit
DESCRIPTION:
URL:https://etab.ac-reunion.fr/clg-adam-de-villiers/event/conseil-de-classe-s2-6-tuit-tuit-4/
CATEGORIES:Conseil de classe
END:VEVENT
BEGIN:VEVENT
DTSTART;TZID=Indian/Reunion:20250616T173000
DTEND;TZID=Indian/Reunion:20250616T183000
DTSTAMP:20260426T022905
CREATED:20250614T060219Z
LAST-MODIFIED:20250614T060219Z
UID:11866-1750095000-1750098600@etab.ac-reunion.fr
SUMMARY:Conseil de classe S2 6° Tec-Tec
DESCRIPTION:
URL:https://etab.ac-reunion.fr/clg-adam-de-villiers/event/conseil-de-classe-s2-6-tec-tec-3/
CATEGORIES:Conseil de classe
END:VEVENT
BEGIN:VEVENT
DTSTART;TZID=Indian/Reunion:20250616T173000
DTEND;TZID=Indian/Reunion:20250616T183000
DTSTAMP:20260426T022905
CREATED:20250614T060303Z
LAST-MODIFIED:20250614T060304Z
UID:11868-1750095000-1750098600@etab.ac-reunion.fr
SUMMARY:Conseil de classe S2 5° Safran
DESCRIPTION:
URL:https://etab.ac-reunion.fr/clg-adam-de-villiers/event/conseil-de-classe-s2-5-safran-4/
CATEGORIES:Conseil de classe
END:VEVENT
END:VCALENDAR