BEGIN:VCALENDAR
VERSION:2.0
PRODID:-//Collège Emilien Adam de Villiers - ECPv6.15.20//NONSGML v1.0//EN
CALSCALE:GREGORIAN
METHOD:PUBLISH
X-WR-CALNAME:Collège Emilien Adam de Villiers
X-ORIGINAL-URL:https://etab.ac-reunion.fr/clg-adam-de-villiers
X-WR-CALDESC:Évènements pour Collège Emilien Adam de Villiers
REFRESH-INTERVAL;VALUE=DURATION:PT1H
X-Robots-Tag:noindex
X-PUBLISHED-TTL:PT1H
BEGIN:VTIMEZONE
TZID:Indian/Reunion
BEGIN:STANDARD
TZOFFSETFROM:+0400
TZOFFSETTO:+0400
TZNAME:+04
DTSTART:20240101T000000
END:STANDARD
END:VTIMEZONE
BEGIN:VEVENT
DTSTART;TZID=Indian/Reunion:20250617T153000
DTEND;TZID=Indian/Reunion:20250617T163000
DTSTAMP:20260426T022908
CREATED:20250614T060404Z
LAST-MODIFIED:20250614T060404Z
UID:11870-1750174200-1750177800@etab.ac-reunion.fr
SUMMARY:Conseil de classe S2 5° Vanille
DESCRIPTION:
URL:https://etab.ac-reunion.fr/clg-adam-de-villiers/event/conseil-de-classe-s2-5-vanille-3/
CATEGORIES:Conseil de classe
END:VEVENT
BEGIN:VEVENT
DTSTART;TZID=Indian/Reunion:20250617T163000
DTEND;TZID=Indian/Reunion:20250617T173000
DTSTAMP:20260426T022908
CREATED:20250614T060441Z
LAST-MODIFIED:20250614T060441Z
UID:11872-1750177800-1750181400@etab.ac-reunion.fr
SUMMARY:Conseil de classe S2 5° Ylang
DESCRIPTION:
URL:https://etab.ac-reunion.fr/clg-adam-de-villiers/event/conseil-de-classe-s2-5-ylang-3/
CATEGORIES:Conseil de classe
END:VEVENT
BEGIN:VEVENT
DTSTART;TZID=Indian/Reunion:20250617T163000
DTEND;TZID=Indian/Reunion:20250617T173000
DTSTAMP:20260426T022908
CREATED:20250614T060514Z
LAST-MODIFIED:20250614T060514Z
UID:11874-1750177800-1750181400@etab.ac-reunion.fr
SUMMARY:Conseil de classe S2 6° Gecko
DESCRIPTION:
URL:https://etab.ac-reunion.fr/clg-adam-de-villiers/event/conseil-de-classe-s2-6-gecko-4/
CATEGORIES:Conseil de classe
END:VEVENT
BEGIN:VEVENT
DTSTART;TZID=Indian/Reunion:20250617T173000
DTEND;TZID=Indian/Reunion:20250617T183000
DTSTAMP:20260426T022908
CREATED:20250614T060548Z
LAST-MODIFIED:20250614T060548Z
UID:11876-1750181400-1750185000@etab.ac-reunion.fr
SUMMARY:Conseil de classe S2 6° Corail
DESCRIPTION:
URL:https://etab.ac-reunion.fr/clg-adam-de-villiers/event/conseil-de-classe-s2-6-corail-4/
CATEGORIES:Conseil de classe
END:VEVENT
BEGIN:VEVENT
DTSTART;TZID=Indian/Reunion:20250617T173000
DTEND;TZID=Indian/Reunion:20250617T183000
DTSTAMP:20260426T022908
CREATED:20250614T060627Z
LAST-MODIFIED:20250614T060627Z
UID:11878-1750181400-1750185000@etab.ac-reunion.fr
SUMMARY:Conseil de classe S2 4° Benjoin
DESCRIPTION:
URL:https://etab.ac-reunion.fr/clg-adam-de-villiers/event/conseil-de-classe-s2-4-benjoin-4/
CATEGORIES:Conseil de classe
END:VEVENT
END:VCALENDAR