BEGIN:VCALENDAR
VERSION:2.0
PRODID:-//Collège Emilien Adam de Villiers - ECPv6.15.20//NONSGML v1.0//EN
CALSCALE:GREGORIAN
METHOD:PUBLISH
X-ORIGINAL-URL:https://etab.ac-reunion.fr/clg-adam-de-villiers
X-WR-CALDESC:Évènements pour Collège Emilien Adam de Villiers
REFRESH-INTERVAL;VALUE=DURATION:PT1H
X-Robots-Tag:noindex
X-PUBLISHED-TTL:PT1H
BEGIN:VTIMEZONE
TZID:Indian/Reunion
BEGIN:STANDARD
TZOFFSETFROM:+0400
TZOFFSETTO:+0400
TZNAME:+04
DTSTART:20240101T000000
END:STANDARD
END:VTIMEZONE
BEGIN:VEVENT
DTSTART;TZID=Indian/Reunion:20250929T163000
DTEND;TZID=Indian/Reunion:20250929T180000
DTSTAMP:20260425T191847
CREATED:20251004T135428Z
LAST-MODIFIED:20251004T135649Z
UID:12102-1759163400-1759168800@etab.ac-reunion.fr
SUMMARY:Conseils flash Semestre 1
DESCRIPTION:6° Tec-Tec\, 6° Tuit-Tuit \n\n\n\n5° Jasmin\, 5° Safran\, 5° Ylang \n\n\n\n4° Palmiste
URL:https://etab.ac-reunion.fr/clg-adam-de-villiers/event/conseils-flash/
CATEGORIES:Conseil de classe
END:VEVENT
END:VCALENDAR