BEGIN:VCALENDAR
VERSION:2.0
PRODID:-//Collège Emilien Adam de Villiers - ECPv6.15.20//NONSGML v1.0//EN
CALSCALE:GREGORIAN
METHOD:PUBLISH
X-ORIGINAL-URL:https://etab.ac-reunion.fr/clg-adam-de-villiers
X-WR-CALDESC:Évènements pour Collège Emilien Adam de Villiers
REFRESH-INTERVAL;VALUE=DURATION:PT1H
X-Robots-Tag:noindex
X-PUBLISHED-TTL:PT1H
BEGIN:VTIMEZONE
TZID:Indian/Reunion
BEGIN:STANDARD
TZOFFSETFROM:+0400
TZOFFSETTO:+0400
TZNAME:+04
DTSTART:20240101T000000
END:STANDARD
END:VTIMEZONE
BEGIN:VEVENT
DTSTART;TZID=Indian/Reunion:20251204T153000
DTEND;TZID=Indian/Reunion:20251204T163000
DTSTAMP:20260425T163001
CREATED:20251204T150014Z
LAST-MODIFIED:20251204T150014Z
UID:12218-1764862200-1764865800@etab.ac-reunion.fr
SUMMARY:Conseil S1 6° Capucin
DESCRIPTION:
URL:https://etab.ac-reunion.fr/clg-adam-de-villiers/event/conseil-s1-6-capucin-2/
CATEGORIES:Conseil de classe
END:VEVENT
BEGIN:VEVENT
DTSTART;TZID=Indian/Reunion:20251204T163000
DTEND;TZID=Indian/Reunion:20251204T173000
DTSTAMP:20260425T163001
CREATED:20251204T150109Z
LAST-MODIFIED:20251204T150109Z
UID:12220-1764865800-1764869400@etab.ac-reunion.fr
SUMMARY:Conseil S1 6° Corail
DESCRIPTION:
URL:https://etab.ac-reunion.fr/clg-adam-de-villiers/event/conseil-s1-6-corail-3/
CATEGORIES:Conseil de classe
END:VEVENT
BEGIN:VEVENT
DTSTART;TZID=Indian/Reunion:20251204T173000
DTEND;TZID=Indian/Reunion:20251204T183000
DTSTAMP:20260425T163001
CREATED:20251204T150237Z
LAST-MODIFIED:20251204T150237Z
UID:12222-1764869400-1764873000@etab.ac-reunion.fr
SUMMARY:Conseil S1 6° Gecko
DESCRIPTION:
URL:https://etab.ac-reunion.fr/clg-adam-de-villiers/event/conseil-s1-6-gecko-3/
CATEGORIES:Conseil de classe
END:VEVENT
END:VCALENDAR