BEGIN:VCALENDAR
VERSION:2.0
PRODID:-//Collège Emilien Adam de Villiers - ECPv6.15.20//NONSGML v1.0//EN
CALSCALE:GREGORIAN
METHOD:PUBLISH
X-ORIGINAL-URL:https://etab.ac-reunion.fr/clg-adam-de-villiers
X-WR-CALDESC:Évènements pour Collège Emilien Adam de Villiers
REFRESH-INTERVAL;VALUE=DURATION:PT1H
X-Robots-Tag:noindex
X-PUBLISHED-TTL:PT1H
BEGIN:VTIMEZONE
TZID:Indian/Reunion
BEGIN:STANDARD
TZOFFSETFROM:+0400
TZOFFSETTO:+0400
TZNAME:+04
DTSTART:20240101T000000
END:STANDARD
END:VTIMEZONE
BEGIN:VEVENT
DTSTART;TZID=Indian/Reunion:20251208T153000
DTEND;TZID=Indian/Reunion:20251208T163000
DTSTAMP:20260425T163000
CREATED:20251204T151028Z
LAST-MODIFIED:20251204T151028Z
UID:12232-1765207800-1765211400@etab.ac-reunion.fr
SUMMARY:Conseil S1 4° Palmiste
DESCRIPTION:
URL:https://etab.ac-reunion.fr/clg-adam-de-villiers/event/conseil-s1-4-palmiste-3/
CATEGORIES:Conseil de classe
END:VEVENT
BEGIN:VEVENT
DTSTART;TZID=Indian/Reunion:20251208T153000
DTEND;TZID=Indian/Reunion:20251208T163000
DTSTAMP:20260425T163000
CREATED:20251204T151117Z
LAST-MODIFIED:20251204T151117Z
UID:12234-1765207800-1765211400@etab.ac-reunion.fr
SUMMARY:Conseil S1 5° Jasmin
DESCRIPTION:
URL:https://etab.ac-reunion.fr/clg-adam-de-villiers/event/conseil-s1-5-jasmin/
CATEGORIES:Conseil de classe
END:VEVENT
BEGIN:VEVENT
DTSTART;TZID=Indian/Reunion:20251208T163000
DTEND;TZID=Indian/Reunion:20251208T173000
DTSTAMP:20260425T163000
CREATED:20251204T151200Z
LAST-MODIFIED:20251204T152112Z
UID:12236-1765211400-1765215000@etab.ac-reunion.fr
SUMMARY:Conseil S1 4° Latanier
DESCRIPTION:
URL:https://etab.ac-reunion.fr/clg-adam-de-villiers/event/conseil-s1-4-latanier-3/
CATEGORIES:Conseil de classe
END:VEVENT
BEGIN:VEVENT
DTSTART;TZID=Indian/Reunion:20251208T163000
DTEND;TZID=Indian/Reunion:20251208T173000
DTSTAMP:20260425T163000
CREATED:20251204T151239Z
LAST-MODIFIED:20251204T151239Z
UID:12238-1765211400-1765215000@etab.ac-reunion.fr
SUMMARY:Conseil S1 5° Géranium
DESCRIPTION:
URL:https://etab.ac-reunion.fr/clg-adam-de-villiers/event/conseil-s1-5-geranium-3/
CATEGORIES:Conseil de classe
END:VEVENT
BEGIN:VEVENT
DTSTART;TZID=Indian/Reunion:20251208T173000
DTEND;TZID=Indian/Reunion:20251208T183000
DTSTAMP:20260425T163000
CREATED:20251204T151332Z
LAST-MODIFIED:20251204T151333Z
UID:12240-1765215000-1765218600@etab.ac-reunion.fr
SUMMARY:Conseil S1 4° Fanjan
DESCRIPTION:
URL:https://etab.ac-reunion.fr/clg-adam-de-villiers/event/conseil-s1-4-fanjan-3/
CATEGORIES:Conseil de classe
END:VEVENT
BEGIN:VEVENT
DTSTART;TZID=Indian/Reunion:20251208T173000
DTEND;TZID=Indian/Reunion:20251208T183000
DTSTAMP:20260425T163000
CREATED:20251204T151417Z
LAST-MODIFIED:20251204T151417Z
UID:12242-1765215000-1765218600@etab.ac-reunion.fr
SUMMARY:Conseil S1 5° Ylang
DESCRIPTION:
URL:https://etab.ac-reunion.fr/clg-adam-de-villiers/event/conseil-s1-5-ylang-3/
CATEGORIES:Conseil de classe
END:VEVENT
END:VCALENDAR