BEGIN:VCALENDAR
VERSION:2.0
PRODID:-//Collège Emilien Adam de Villiers - ECPv6.15.20//NONSGML v1.0//EN
CALSCALE:GREGORIAN
METHOD:PUBLISH
X-WR-CALNAME:Collège Emilien Adam de Villiers
X-ORIGINAL-URL:https://etab.ac-reunion.fr/clg-adam-de-villiers
X-WR-CALDESC:Évènements pour Collège Emilien Adam de Villiers
REFRESH-INTERVAL;VALUE=DURATION:PT1H
X-Robots-Tag:noindex
X-PUBLISHED-TTL:PT1H
BEGIN:VTIMEZONE
TZID:Indian/Reunion
BEGIN:STANDARD
TZOFFSETFROM:+0400
TZOFFSETTO:+0400
TZNAME:+04
DTSTART:20230101T000000
END:STANDARD
END:VTIMEZONE
BEGIN:VEVENT
DTSTART;TZID=Indian/Reunion:20241204T182000
DTEND;TZID=Indian/Reunion:20241204T223000
DTSTAMP:20260426T081143
CREATED:20241201T113523Z
LAST-MODIFIED:20241201T114152Z
UID:11455-1733336400-1733351400@etab.ac-reunion.fr
SUMMARY:Sortie pédagogique 4° Benjoin et 5° groupe 2 français
DESCRIPTION:Elèves concernés : 4° Benjoin et 5° groupe 2 français \n\n\n\nLieu : Théatre Plein Air de St Gilles (St Paul) \n\n\n\nAccompagnatrices : Mme Bozilovic\, Mme Sibari\, Mme Perrin et Mme Lachenaye
URL:https://etab.ac-reunion.fr/clg-adam-de-villiers/event/sortie-pedagogique-4-benjoin-et-5-groupe-2-francais/
CATEGORIES:Disciplines artistiques,Disciplines linguistiques,Sortie pédagogique
END:VEVENT
BEGIN:VEVENT
DTSTART;TZID=Indian/Reunion:20241205T074500
DTEND;TZID=Indian/Reunion:20241205T113000
DTSTAMP:20260426T081143
CREATED:20241201T113755Z
LAST-MODIFIED:20241201T114139Z
UID:11457-1733384700-1733398200@etab.ac-reunion.fr
SUMMARY:Sortie pédagogique 6° groupes 1 et 5 français
DESCRIPTION:Elèves concernés : 6° groupes 1 et 5 français \n\n\n\nLieu : Ecran Jeunes Moulin à Café (St Pierre) \n\n\n\nAccompagnatrices : Mme Bozilovic\, Mme Gigan et Mme Viry
URL:https://etab.ac-reunion.fr/clg-adam-de-villiers/event/sortie-pedagogique-6-groupes-1-et-5-francais/
CATEGORIES:Disciplines artistiques,Sortie pédagogique
END:VEVENT
END:VCALENDAR