BEGIN:VCALENDAR
VERSION:2.0
PRODID:-//Collège Emilien Adam de Villiers - ECPv6.15.20//NONSGML v1.0//EN
CALSCALE:GREGORIAN
METHOD:PUBLISH
X-WR-CALNAME:Collège Emilien Adam de Villiers
X-ORIGINAL-URL:https://etab.ac-reunion.fr/clg-adam-de-villiers
X-WR-CALDESC:Évènements pour Collège Emilien Adam de Villiers
REFRESH-INTERVAL;VALUE=DURATION:PT1H
X-Robots-Tag:noindex
X-PUBLISHED-TTL:PT1H
BEGIN:VTIMEZONE
TZID:Indian/Reunion
BEGIN:STANDARD
TZOFFSETFROM:+0400
TZOFFSETTO:+0400
TZNAME:+04
DTSTART:20240101T000000
END:STANDARD
END:VTIMEZONE
BEGIN:VEVENT
DTSTART;TZID=Indian/Reunion:20250207T074500
DTEND;TZID=Indian/Reunion:20250207T151000
DTSTAMP:20260426T053258
CREATED:20250202T070115Z
LAST-MODIFIED:20250202T070116Z
UID:11552-1738914300-1738941000@etab.ac-reunion.fr
SUMMARY:Sortie pédagogique 5° et 3° option Créole
DESCRIPTION:Elèves concernés : 5° et 3° option Créole \n\n\n\nLieu : Villa Rivière Saint-Paul \n\n\n\nAccompagnateurs : Mme Anzoully et Mme Quenou
URL:https://etab.ac-reunion.fr/clg-adam-de-villiers/event/sortie-pedagogique-5-et-3-option-creole/
CATEGORIES:Disciplines linguistiques
END:VEVENT
BEGIN:VEVENT
DTSTART;TZID=Indian/Reunion:20250217T083000
DTEND;TZID=Indian/Reunion:20250217T151000
DTSTAMP:20260426T053258
CREATED:20250202T070440Z
LAST-MODIFIED:20250202T071017Z
UID:11554-1739781000-1739805000@etab.ac-reunion.fr
SUMMARY:Sortie pédagogique Latiniste et héllénistes des 3° Mascarin et 3° Merle
DESCRIPTION:Elèves concernés : options latin et grec des 3° Mascarin et 3° Merle \n\n\n\nLieu : Aquarium de St Gilles (Saint-Paul) \n\n\n\nAccompagnateurs : Mme Sibari
URL:https://etab.ac-reunion.fr/clg-adam-de-villiers/event/sortie-pedagogique-latiniste-et-hellenistes-des-3-mascarin-et-3-merle/
CATEGORIES:Disciplines linguistiques
END:VEVENT
END:VCALENDAR