BEGIN:VCALENDAR
VERSION:2.0
PRODID:-//Collège Emilien Adam de Villiers - ECPv6.15.20//NONSGML v1.0//EN
CALSCALE:GREGORIAN
METHOD:PUBLISH
X-WR-CALNAME:Collège Emilien Adam de Villiers
X-ORIGINAL-URL:https://etab.ac-reunion.fr/clg-adam-de-villiers
X-WR-CALDESC:Évènements pour Collège Emilien Adam de Villiers
REFRESH-INTERVAL;VALUE=DURATION:PT1H
X-Robots-Tag:noindex
X-PUBLISHED-TTL:PT1H
BEGIN:VTIMEZONE
TZID:Indian/Reunion
BEGIN:STANDARD
TZOFFSETFROM:+0400
TZOFFSETTO:+0400
TZNAME:+04
DTSTART:20240101T000000
END:STANDARD
END:VTIMEZONE
BEGIN:VEVENT
DTSTART;TZID=Indian/Reunion:20250403T140000
DTEND;TZID=Indian/Reunion:20250415T093000
DTSTAMP:20260426T024836
CREATED:20250202T070931Z
LAST-MODIFIED:20250202T070931Z
UID:11556-1743688800-1744709400@etab.ac-reunion.fr
SUMMARY:Voyage scolaire en Slovaquie
DESCRIPTION:Elèves concernés : 13 élèves de l’option DNL anglais \n\n\n\nDates : Départ du Collège le 04 avril à 14h00 / Retour à l’aéroport Roland Garros (Saint-Denis) le 15 avril à 09h30 \n\n\n\n \n\n\n\nLieu : Solvaquie \n\n\n\nAccompagnateurs : Mme Lecrosnier et M. Grondin
URL:https://etab.ac-reunion.fr/clg-adam-de-villiers/event/voyage-scolaire-en-slovaquie/
CATEGORIES:Disciplines linguistiques
END:VEVENT
BEGIN:VEVENT
DTSTART;TZID=Indian/Reunion:20250410T080000
DTEND;TZID=Indian/Reunion:20250410T151000
DTSTAMP:20260426T024836
CREATED:20250405T074018Z
LAST-MODIFIED:20250405T074018Z
UID:11721-1744272000-1744297800@etab.ac-reunion.fr
SUMMARY:Sortie pédagogique LCE et DNL Anglais
DESCRIPTION:Elèves concernés : élèves de 5°\, 4°\, 3° LCE et 3° DNL anglais  \n\n\n\nLieu : Salle Pierre Roseline (St Leu) \n\n\n\nAccompagnateurs : Mme Dijoux\, M. Vanbaelinghem et M. Amir
URL:https://etab.ac-reunion.fr/clg-adam-de-villiers/event/sortie-pedagogique-lce-et-dnl-anglais/
CATEGORIES:Disciplines linguistiques,Sortie pédagogique
END:VEVENT
BEGIN:VEVENT
DTSTART;TZID=Indian/Reunion:20250411T083000
DTEND;TZID=Indian/Reunion:20250411T160000
DTSTAMP:20260426T024836
CREATED:20250405T074449Z
LAST-MODIFIED:20250405T074450Z
UID:11725-1744360200-1744387200@etab.ac-reunion.fr
SUMMARY:Sortie pédagogique élèves germanistes
DESCRIPTION:Elèves concernés : 23 élèves germanistes (5° Géranium et 3° Mascarin) \n\n\n\nLieu : Lycée Roland Garros (Le Tampon) \n\n\n\nAccompagnateurs : Mme Léocadie
URL:https://etab.ac-reunion.fr/clg-adam-de-villiers/event/sortie-pedagogique-eleves-germanistes/
CATEGORIES:Disciplines linguistiques,Sortie pédagogique
END:VEVENT
END:VCALENDAR