BEGIN:VCALENDAR
VERSION:2.0
PRODID:-//Collège Emilien Adam de Villiers - ECPv6.15.20//NONSGML v1.0//EN
CALSCALE:GREGORIAN
METHOD:PUBLISH
X-WR-CALNAME:Collège Emilien Adam de Villiers
X-ORIGINAL-URL:https://etab.ac-reunion.fr/clg-adam-de-villiers
X-WR-CALDESC:Évènements pour Collège Emilien Adam de Villiers
REFRESH-INTERVAL;VALUE=DURATION:PT1H
X-Robots-Tag:noindex
X-PUBLISHED-TTL:PT1H
BEGIN:VTIMEZONE
TZID:Indian/Reunion
BEGIN:STANDARD
TZOFFSETFROM:+0400
TZOFFSETTO:+0400
TZNAME:+04
DTSTART:20240101T000000
END:STANDARD
END:VTIMEZONE
BEGIN:VEVENT
DTSTART;TZID=Indian/Reunion:20250323T080000
DTEND;TZID=Indian/Reunion:20250330T080000
DTSTAMP:20260426T053527
CREATED:20250225T074119Z
LAST-MODIFIED:20250225T074119Z
UID:11616-1742716800-1743321600@etab.ac-reunion.fr
SUMMARY:Séjour de 14 élèves allemands et 3 accompagnateurs
DESCRIPTION:
URL:https://etab.ac-reunion.fr/clg-adam-de-villiers/event/sejour-de-14-eleves-allemands-et-3-accompagnateurs/
CATEGORIES:Disciplines linguistiques
END:VEVENT
BEGIN:VEVENT
DTSTART;TZID=Indian/Reunion:20250328T080000
DTEND;TZID=Indian/Reunion:20250328T151000
DTSTAMP:20260426T053527
CREATED:20250322T072832Z
LAST-MODIFIED:20250322T072832Z
UID:11670-1743148800-1743174600@etab.ac-reunion.fr
SUMMARY:Sortie pédagogique 5° Vétiver option Créole
DESCRIPTION:Elèves concernés : élève des 5° Vétiver option Créole (Projet « les petits métiers lontan ») \n\n\n\nLieu : Entre-Deux \n\n\n\nAccompagnateurs : Mme Leger\, Mme Anzoully et Mme Quenou
URL:https://etab.ac-reunion.fr/clg-adam-de-villiers/event/sortie-pedagogique-5-vetiver-option-creole/
CATEGORIES:Disciplines linguistiques
END:VEVENT
BEGIN:VEVENT
DTSTART;TZID=Indian/Reunion:20250328T080000
DTEND;TZID=Indian/Reunion:20250328T160000
DTSTAMP:20260426T053527
CREATED:20250322T072533Z
LAST-MODIFIED:20250322T072533Z
UID:11667-1743148800-1743177600@etab.ac-reunion.fr
SUMMARY:Sortie pédagogique LV Allemand
DESCRIPTION:Elèves concernés : 24 élèves de LV Allemand et leurs correspondants \n\n\n\nLieu : Ste Rose et St Philippe \n\n\n\nAccompagnateurs : Mme Léocadie\, M. Gussefeld et 3 accompagnateurs allemands
URL:https://etab.ac-reunion.fr/clg-adam-de-villiers/event/sortie-pedagogique-lv-allemand-2/
CATEGORIES:Disciplines linguistiques,Echanges linguistiques
END:VEVENT
END:VCALENDAR