BEGIN:VCALENDAR
VERSION:2.0
PRODID:-//Collège Emilien Adam de Villiers - ECPv6.15.20//NONSGML v1.0//EN
CALSCALE:GREGORIAN
METHOD:PUBLISH
X-WR-CALNAME:Collège Emilien Adam de Villiers
X-ORIGINAL-URL:https://etab.ac-reunion.fr/clg-adam-de-villiers
X-WR-CALDESC:Évènements pour Collège Emilien Adam de Villiers
REFRESH-INTERVAL;VALUE=DURATION:PT1H
X-Robots-Tag:noindex
X-PUBLISHED-TTL:PT1H
BEGIN:VTIMEZONE
TZID:Indian/Reunion
BEGIN:STANDARD
TZOFFSETFROM:+0400
TZOFFSETTO:+0400
TZNAME:+04
DTSTART:20240101T000000
END:STANDARD
END:VTIMEZONE
BEGIN:VEVENT
DTSTART;TZID=Indian/Reunion:20250604T083000
DTEND;TZID=Indian/Reunion:20250604T114000
DTSTAMP:20260426T012014
CREATED:20250531T060108Z
LAST-MODIFIED:20250531T060108Z
UID:11824-1749025800-1749037200@etab.ac-reunion.fr
SUMMARY:Journée latine : représentation théatrale pour les 6°
DESCRIPTION:
URL:https://etab.ac-reunion.fr/clg-adam-de-villiers/event/journee-latine-representation-theatrale-pour-les-6/
CATEGORIES:Disciplines artistiques,Disciplines linguistiques
END:VEVENT
END:VCALENDAR