BEGIN:VCALENDAR
VERSION:2.0
PRODID:-//Collège Emilien Adam de Villiers - ECPv6.15.20//NONSGML v1.0//EN
CALSCALE:GREGORIAN
METHOD:PUBLISH
X-WR-CALNAME:Collège Emilien Adam de Villiers
X-ORIGINAL-URL:https://etab.ac-reunion.fr/clg-adam-de-villiers
X-WR-CALDESC:Évènements pour Collège Emilien Adam de Villiers
REFRESH-INTERVAL;VALUE=DURATION:PT1H
X-Robots-Tag:noindex
X-PUBLISHED-TTL:PT1H
BEGIN:VTIMEZONE
TZID:Indian/Reunion
BEGIN:STANDARD
TZOFFSETFROM:+0400
TZOFFSETTO:+0400
TZNAME:+04
DTSTART:20240101T000000
END:STANDARD
END:VTIMEZONE
BEGIN:VEVENT
DTSTART;TZID=Indian/Reunion:20251006T073000
DTEND;TZID=Indian/Reunion:20251006T151000
DTSTAMP:20260425T182933
CREATED:20251004T132035Z
LAST-MODIFIED:20251004T132337Z
UID:12077-1759735800-1759763400@etab.ac-reunion.fr
SUMMARY:Sortie pédagogique 5° Jasmin et 5° Safran
DESCRIPTION:Elèves concernés : 5° Jasmin et 5° Safran \n\n\n\nLieu de destination : Les Makes (Saint Louis) \n\n\n\nAccompagnateurs : Mme Angeli\, Mme Ruellan\, Mme Jono et M. Grondin
URL:https://etab.ac-reunion.fr/clg-adam-de-villiers/event/sortie-pedagogique-5-jasmin-et-5-safran/
CATEGORIES:Disciplines sportives,Sortie pédagogique
END:VEVENT
BEGIN:VEVENT
DTSTART;TZID=Indian/Reunion:20251008T080000
DTEND;TZID=Indian/Reunion:20251008T151000
DTSTAMP:20260425T182933
CREATED:20251004T132652Z
LAST-MODIFIED:20251004T132748Z
UID:12082-1759910400-1759936200@etab.ac-reunion.fr
SUMMARY:Sortie UNSS
DESCRIPTION:Elèves concernés : Elèves sélectionnés UNSS \n\n\n\nLieu de destination : Cross de district\, Stade Langevin \n\n\n\nAccompagnateurs : Mme Angeli\, M. Corporin\, Mme Jono\, Mme Ruellan et M. Lebon
URL:https://etab.ac-reunion.fr/clg-adam-de-villiers/event/sortie-unss-2/
CATEGORIES:Disciplines sportives,UNSS
END:VEVENT
END:VCALENDAR