BEGIN:VCALENDAR
VERSION:2.0
PRODID:-//Collège Emilien Adam de Villiers - ECPv6.15.20//NONSGML v1.0//EN
CALSCALE:GREGORIAN
METHOD:PUBLISH
X-ORIGINAL-URL:https://etab.ac-reunion.fr/clg-adam-de-villiers
X-WR-CALDESC:Évènements pour Collège Emilien Adam de Villiers
REFRESH-INTERVAL;VALUE=DURATION:PT1H
X-Robots-Tag:noindex
X-PUBLISHED-TTL:PT1H
BEGIN:VTIMEZONE
TZID:Indian/Reunion
BEGIN:STANDARD
TZOFFSETFROM:+0400
TZOFFSETTO:+0400
TZNAME:+04
DTSTART:20240101T000000
END:STANDARD
END:VTIMEZONE
BEGIN:VEVENT
DTSTART;TZID=Indian/Reunion:20251203T075000
DTEND;TZID=Indian/Reunion:20251203T170000
DTSTAMP:20260425T153623
CREATED:20251204T145730Z
LAST-MODIFIED:20251206T083959Z
UID:12216-1764748200-1764781200@etab.ac-reunion.fr
SUMMARY:Sortie UNSS Cross Académique
DESCRIPTION:Elèves concernés : 13 élèves \n\n\n\nLieu : Plaine des Palmistes \n\n\n\nAccompagnateur : M. Lebon
URL:https://etab.ac-reunion.fr/clg-adam-de-villiers/event/sortie-pedagogique-unss-cross-academique/
CATEGORIES:Disciplines sportives,Sortie pédagogique,UNSS
END:VEVENT
BEGIN:VEVENT
DTSTART;TZID=Indian/Reunion:20251205T073000
DTEND;TZID=Indian/Reunion:20251205T120000
DTSTAMP:20260425T153623
CREATED:20251204T150931Z
LAST-MODIFIED:20251204T150932Z
UID:12230-1764919800-1764936000@etab.ac-reunion.fr
SUMMARY:Téléthon 2025
DESCRIPTION:Course du muscle pour le muscle : Le but est de faire bouger les élèves à travers un évènement rassembleur comme la course.Les élèves auront le choix de faire un nombre de tour\, déterminé à l’avance à partir d’un document d’inscription\, en marchant ou en courant. Les élèves s’inscriront par classe\, avec un minimum departicipants pour pouvoir s’inscrire (la moitié de la classe au moins). Nous informerons les déléguésde classe et nous leur fourniront le document d’inscription.Nous leur fourniront également un document afin qu’il puisse présenter l’AFM et l’action Téléthon à la classe\, ceci afin de donner du sens à cette action solidaire. Le principe est simple : 1 tour = 1€. \n\n\n\nNous fixerons un nombre de tour maximum afin d’éviter les accidents et les coups de chaud. \n\n\n\nM1/M2 : les élèves de 6ème/5ème participeront à la course\, les autres niveaux iront en cours normalement. \n\n\n\nM3/M4 : les élèves de 4ème/3ème feront la course et les autres niveaux seront en classe.
URL:https://etab.ac-reunion.fr/clg-adam-de-villiers/event/telethon-2025/
CATEGORIES:Disciplines sportives,Manifestation
END:VEVENT
BEGIN:VEVENT
DTSTART;TZID=Indian/Reunion:20251210T073000
DTEND;TZID=Indian/Reunion:20251210T163000
DTSTAMP:20260425T153623
CREATED:20251206T084228Z
LAST-MODIFIED:20251206T084228Z
UID:12259-1765351800-1765384200@etab.ac-reunion.fr
SUMMARY:Sortie UNSS Finale district Badmington
DESCRIPTION:Elèves concernés : groupe UNSS Badmington \n\n\n\nLieu : Dôme de Terre Sainte (St Pierre) \n\n\n\nAccompagnatrice : Mme Ruellan
URL:https://etab.ac-reunion.fr/clg-adam-de-villiers/event/sortie-unss-finale-district-badmington/
CATEGORIES:Disciplines sportives,Sortie pédagogique,UNSS
END:VEVENT
END:VCALENDAR