BEGIN:VCALENDAR
VERSION:2.0
PRODID:-//Collège Emilien Adam de Villiers - ECPv6.15.20//NONSGML v1.0//EN
CALSCALE:GREGORIAN
METHOD:PUBLISH
X-ORIGINAL-URL:https://etab.ac-reunion.fr/clg-adam-de-villiers
X-WR-CALDESC:Évènements pour Collège Emilien Adam de Villiers
REFRESH-INTERVAL;VALUE=DURATION:PT1H
X-Robots-Tag:noindex
X-PUBLISHED-TTL:PT1H
BEGIN:VTIMEZONE
TZID:Indian/Reunion
BEGIN:STANDARD
TZOFFSETFROM:+0400
TZOFFSETTO:+0400
TZNAME:+04
DTSTART:20240101T000000
END:STANDARD
END:VTIMEZONE
BEGIN:VEVENT
DTSTART;TZID=Indian/Reunion:20250416T083000
DTEND;TZID=Indian/Reunion:20250416T114000
DTSTAMP:20260426T023056
CREATED:20250412T053937Z
LAST-MODIFIED:20250412T053937Z
UID:11737-1744792200-1744803600@etab.ac-reunion.fr
SUMMARY:Ateliers EDD
DESCRIPTION:
URL:https://etab.ac-reunion.fr/clg-adam-de-villiers/event/ateliers-edd/
CATEGORIES:EDD,Manifestation
END:VEVENT
END:VCALENDAR