BEGIN:VCALENDAR
VERSION:2.0
PRODID:-//Collège Emilien Adam de Villiers - ECPv6.15.20//NONSGML v1.0//EN
CALSCALE:GREGORIAN
METHOD:PUBLISH
X-WR-CALNAME:Collège Emilien Adam de Villiers
X-ORIGINAL-URL:https://etab.ac-reunion.fr/clg-adam-de-villiers
X-WR-CALDESC:Évènements pour Collège Emilien Adam de Villiers
REFRESH-INTERVAL;VALUE=DURATION:PT1H
X-Robots-Tag:noindex
X-PUBLISHED-TTL:PT1H
BEGIN:VTIMEZONE
TZID:Indian/Reunion
BEGIN:STANDARD
TZOFFSETFROM:+0400
TZOFFSETTO:+0400
TZNAME:+04
DTSTART:20240101T000000
END:STANDARD
END:VTIMEZONE
BEGIN:VEVENT
DTSTART;TZID=Indian/Reunion:20250602T073000
DTEND;TZID=Indian/Reunion:20250602T150000
DTSTAMP:20260426T035617
CREATED:20250531T054605Z
LAST-MODIFIED:20250531T054606Z
UID:11814-1748849400-1748876400@etab.ac-reunion.fr
SUMMARY:Sortie pédagogique 4° Tamarins
DESCRIPTION:Elèves concernés : 4° Tamarin \n\n\n\nLieu : Forêt d’Etang Salé \n\n\n\nAccompagnateurs : M. Foncarnier \, Mme Ruellan et M. Amir
URL:https://etab.ac-reunion.fr/clg-adam-de-villiers/event/sortie-pedagogique-4-tamarins/
CATEGORIES:Disciplines sportives,Sortie pédagogique
END:VEVENT
BEGIN:VEVENT
DTSTART;TZID=Indian/Reunion:20250603T073000
DTEND;TZID=Indian/Reunion:20250603T153000
DTSTAMP:20260426T035617
CREATED:20250531T054745Z
LAST-MODIFIED:20250531T054746Z
UID:11816-1748935800-1748964600@etab.ac-reunion.fr
SUMMARY:Sortie pédagogique UNSS
DESCRIPTION:Elèves concernés : 19 élèves d’UNSS \n\n\n\nLieu : Plaine des Palmistes \n\n\n\nAccompagnateurs : Mme Ruellan
URL:https://etab.ac-reunion.fr/clg-adam-de-villiers/event/sortie-pedagogique-unss-2/
CATEGORIES:Disciplines sportives,Sortie pédagogique
END:VEVENT
BEGIN:VEVENT
DTSTART;TZID=Indian/Reunion:20250603T080000
DTEND;TZID=Indian/Reunion:20250603T150000
DTSTAMP:20260426T035617
CREATED:20250531T055205Z
LAST-MODIFIED:20250531T055646Z
UID:11818-1748937600-1748962800@etab.ac-reunion.fr
SUMMARY:Sortie pédagogique 3° Papangue et LCE 4° Latanier
DESCRIPTION:Elèves concernés : 3° Papangue + 6 élèves de LCE 4° Latanier \n\n\n\nLieu : Jardin des bestioles + Jardin en champs thé (St-Joseph) \n\n\n\nAccompagnateurs : Mme Désiré et Mme Cannaké
URL:https://etab.ac-reunion.fr/clg-adam-de-villiers/event/sortie-pedagogique-3-papangue-et-lce-4-latanier/
CATEGORIES:Disciplines linguistiques,Sortie pédagogique
END:VEVENT
BEGIN:VEVENT
DTSTART;TZID=Indian/Reunion:20250605T080000
DTEND;TZID=Indian/Reunion:20250605T150000
DTSTAMP:20260426T035617
CREATED:20250531T055905Z
LAST-MODIFIED:20250531T055906Z
UID:11822-1749110400-1749135600@etab.ac-reunion.fr
SUMMARY:Sortie pédagogique 4° Latanier
DESCRIPTION:Elèves concernés : 4° Latanier \n\n\n\nLieu : Etang Salé\, Saint Leu et Saint Gilles \n\n\n\nAccompagnateurs : M. Vanbaelinghem et un AED
URL:https://etab.ac-reunion.fr/clg-adam-de-villiers/event/sortie-pedagogique-4-latanier-4/
CATEGORIES:Disciplines linguistiques,Sortie pédagogique
END:VEVENT
BEGIN:VEVENT
DTSTART;TZID=Indian/Reunion:20250605T080000
DTEND;TZID=Indian/Reunion:20250605T151000
DTSTAMP:20260426T035617
CREATED:20250531T055604Z
LAST-MODIFIED:20250531T055604Z
UID:11820-1749110400-1749136200@etab.ac-reunion.fr
SUMMARY:Sortie pédagogique Projet 5° Vétiver et 3° option Créole
DESCRIPTION:Elèves concernés : Projet 5° Vétiver + 3° option Créole \n\n\n\nLieu : Centre Culturel Sud (St-Pierre) \n\n\n\nAccompagnateurs : Mme Léger\, Mme Anzoully et Mme Quenou
URL:https://etab.ac-reunion.fr/clg-adam-de-villiers/event/sortie-pedagogique-projet-5-vetiver-et-3-option-creole/
CATEGORIES:Disciplines linguistiques,Sortie pédagogique
END:VEVENT
BEGIN:VEVENT
DTSTART;TZID=Indian/Reunion:20250612T123000
DTEND;TZID=Indian/Reunion:20250612T162000
DTSTAMP:20260426T035617
CREATED:20250608T071739Z
LAST-MODIFIED:20250608T073125Z
UID:11832-1749731400-1749745200@etab.ac-reunion.fr
SUMMARY:Sortie pédagogique option théatre
DESCRIPTION:Elèves concernés : 3 élèves de 3° Sterne\, 4 élèves de 4° Tamarin et 10 élèves de 5° Vétiver \n\n\n\nLieu : Théatre Lucet Langenier (St Pierre) \n\n\n\nAccompagnateurs : Mme Jono et un parent d’élève
URL:https://etab.ac-reunion.fr/clg-adam-de-villiers/event/sortie-pedagogique-option-theatre/
CATEGORIES:Sortie pédagogique
END:VEVENT
BEGIN:VEVENT
DTSTART;TZID=Indian/Reunion:20250616T073000
DTEND;TZID=Indian/Reunion:20250616T150000
DTSTAMP:20260426T035617
CREATED:20250614T053613Z
LAST-MODIFIED:20250614T053614Z
UID:11843-1750059000-1750086000@etab.ac-reunion.fr
SUMMARY:Sortie pédagogique 3° Sterne
DESCRIPTION:Elèves concernés : « ° Sterne \n\n\n\nLieu : Forêt d’Etang Salé \n\n\n\nAccompagnateurs : M. Foncarnier et Mme Ruellan
URL:https://etab.ac-reunion.fr/clg-adam-de-villiers/event/sortie-pedagogique-3-sterne-5/
CATEGORIES:Disciplines sportives,Sortie pédagogique
END:VEVENT
BEGIN:VEVENT
DTSTART;TZID=Indian/Reunion:20250621T080000
DTEND;TZID=Indian/Reunion:20250621T170000
DTSTAMP:20260426T035617
CREATED:20250621T065036Z
LAST-MODIFIED:20250621T065036Z
UID:11916-1750492800-1750525200@etab.ac-reunion.fr
SUMMARY:Sortie pédagogique groupe Santé-Sport et AS
DESCRIPTION:Elèves concernés : élèves du groupe « Santé Sport » et de l’Association Sportive du Collège \n\n\n\nLieu : Acroroc (St-Pierre) \n\n\n\nAccompagnateurs : Mme Ruellan\, Mme Jono\, Mme Lecrosnier\, M. Arnout et Mme Léocadie
URL:https://etab.ac-reunion.fr/clg-adam-de-villiers/event/sortie-pedagogique-groupe-sante-sport-et-as/
CATEGORIES:Disciplines sportives,Sortie pédagogique
END:VEVENT
BEGIN:VEVENT
DTSTART;TZID=Indian/Reunion:20250623T073000
DTEND;TZID=Indian/Reunion:20250623T150000
DTSTAMP:20260426T035617
CREATED:20250621T064710Z
LAST-MODIFIED:20250621T064720Z
UID:11913-1750663800-1750690800@etab.ac-reunion.fr
SUMMARY:Sortie pédagogique 6° Capucin
DESCRIPTION:Elèves concernés : 6° Capucin \n\n\n\nLieu : Cap la Houssaye (St-Paul) \n\n\n\nAccompagnateur : M. Foncarnier
URL:https://etab.ac-reunion.fr/clg-adam-de-villiers/event/sortie-pedagogique-6-capucin-8/
CATEGORIES:Disciplines sportives,Sortie pédagogique
END:VEVENT
BEGIN:VEVENT
DTSTART;TZID=Indian/Reunion:20250628T080000
DTEND;TZID=Indian/Reunion:20250628T170000
DTSTAMP:20260426T035617
CREATED:20250628T071312Z
LAST-MODIFIED:20250628T071312Z
UID:11963-1751097600-1751130000@etab.ac-reunion.fr
SUMMARY:Sortie pédagogique Option Audiovisuel et CVC
DESCRIPTION:Elèves concernés : 16 élèves de l’option Audiovisuel et du CVC \n\n\n\nLieu : Université et Pôle Technologique (St-Denis) \n\n\n\nAccompagnateurs : M. Bigot et Mme Miladi
URL:https://etab.ac-reunion.fr/clg-adam-de-villiers/event/sortie-pedagogique-option-audiovisuel-et-cvc/
CATEGORIES:EMI,Sortie pédagogique,Vie scolaire
END:VEVENT
END:VCALENDAR