BEGIN:VCALENDAR
VERSION:2.0
PRODID:-//Collège Emilien Adam de Villiers - ECPv6.15.20//NONSGML v1.0//EN
CALSCALE:GREGORIAN
METHOD:PUBLISH
X-WR-CALNAME:Collège Emilien Adam de Villiers
X-ORIGINAL-URL:https://etab.ac-reunion.fr/clg-adam-de-villiers
X-WR-CALDESC:Évènements pour Collège Emilien Adam de Villiers
REFRESH-INTERVAL;VALUE=DURATION:PT1H
X-Robots-Tag:noindex
X-PUBLISHED-TTL:PT1H
BEGIN:VTIMEZONE
TZID:Indian/Reunion
BEGIN:STANDARD
TZOFFSETFROM:+0400
TZOFFSETTO:+0400
TZNAME:+04
DTSTART:20240101T000000
END:STANDARD
END:VTIMEZONE
BEGIN:VEVENT
DTSTART;TZID=Indian/Reunion:20251006T073000
DTEND;TZID=Indian/Reunion:20251006T151000
DTSTAMP:20260425T204307
CREATED:20251004T132035Z
LAST-MODIFIED:20251004T132337Z
UID:12077-1759735800-1759763400@etab.ac-reunion.fr
SUMMARY:Sortie pédagogique 5° Jasmin et 5° Safran
DESCRIPTION:Elèves concernés : 5° Jasmin et 5° Safran \n\n\n\nLieu de destination : Les Makes (Saint Louis) \n\n\n\nAccompagnateurs : Mme Angeli\, Mme Ruellan\, Mme Jono et M. Grondin
URL:https://etab.ac-reunion.fr/clg-adam-de-villiers/event/sortie-pedagogique-5-jasmin-et-5-safran/
CATEGORIES:Disciplines sportives,Sortie pédagogique
END:VEVENT
BEGIN:VEVENT
DTSTART;TZID=Indian/Reunion:20251007T074500
DTEND;TZID=Indian/Reunion:20251007T151000
DTSTAMP:20260425T204307
CREATED:20251004T132306Z
LAST-MODIFIED:20251004T133049Z
UID:12079-1759823100-1759849800@etab.ac-reunion.fr
SUMMARY:Sortie pédagogique 5° option LVR
DESCRIPTION:Elèves concernés : 5° option LVR \n\n\n\nLieu de destination : Le Lazaret (La Possession) \n\n\n\nAccompagnatrices : Mme Quenou et Mme Anzoully
URL:https://etab.ac-reunion.fr/clg-adam-de-villiers/event/sortie-pedagogique-5-option-lvr/
CATEGORIES:Disciplines linguistiques,Sortie pédagogique
END:VEVENT
BEGIN:VEVENT
DTSTART;TZID=Indian/Reunion:20251009T080000
DTEND;TZID=Indian/Reunion:20251009T143000
DTSTAMP:20260425T204307
CREATED:20251004T133027Z
LAST-MODIFIED:20251004T133027Z
UID:12084-1759996800-1760020200@etab.ac-reunion.fr
SUMMARY:Sortie pédagogique 3° option Créole
DESCRIPTION:Elèves concernés : 3° option Créole \n\n\n\nLieu de destination : Salon du livre Athéna (Jardins de la plage\, St Pierre) \n\n\n\nAccompagnatrices : Mme Anzoully et Mme Léger
URL:https://etab.ac-reunion.fr/clg-adam-de-villiers/event/sortie-pedagogique-3-option-creole-2/
CATEGORIES:Disciplines linguistiques,Sortie pédagogique
END:VEVENT
BEGIN:VEVENT
DTSTART;TZID=Indian/Reunion:20251009T093000
DTEND;TZID=Indian/Reunion:20251009T120000
DTSTAMP:20260425T204307
CREATED:20251004T133318Z
LAST-MODIFIED:20251004T133413Z
UID:12087-1760002200-1760011200@etab.ac-reunion.fr
SUMMARY:Sortie pédagogique 5° option LVR
DESCRIPTION:Elèves concernés : 5° option LVR (5° Vanille et 5° Vétiver) \n\n\n\nLieu de destination : Salon du livre Athéna (Jardins de la plage\, St Pierre) \n\n\n\nAccompagnateurs : Mme Quenou et M. Hoareau
URL:https://etab.ac-reunion.fr/clg-adam-de-villiers/event/sortie-pedagogique-5-option-lvr-2/
CATEGORIES:Disciplines linguistiques,Sortie pédagogique
END:VEVENT
BEGIN:VEVENT
DTSTART;TZID=Indian/Reunion:20251010T073000
DTEND;TZID=Indian/Reunion:20251010T114000
DTSTAMP:20260425T204307
CREATED:20251004T134013Z
LAST-MODIFIED:20251004T134056Z
UID:12091-1760081400-1760096400@etab.ac-reunion.fr
SUMMARY:Sortie pédagogique Classe EMI
DESCRIPTION:Elèves concernés : Classe EMI \n\n\n\nLieu de destination : Salon du livre Athéna (Jardins de la plage\, St Pierre) \n\n\n\nAccompagnateurs : Mme Léger et M. Rassaby
URL:https://etab.ac-reunion.fr/clg-adam-de-villiers/event/sortie-pedagogique-classe-emi-3/
CATEGORIES:EMI,Sortie pédagogique
END:VEVENT
BEGIN:VEVENT
DTSTART;TZID=Indian/Reunion:20251010T073000
DTEND;TZID=Indian/Reunion:20251010T161500
DTSTAMP:20260425T204307
CREATED:20251004T133756Z
LAST-MODIFIED:20251004T133757Z
UID:12089-1760081400-1760112900@etab.ac-reunion.fr
SUMMARY:Sortie pédagogique Brigade de l'égalité
DESCRIPTION:Elèves concernés : 15 élèves de la brigade de l’égalité \n\n\n\nLieu de destination : Lycée Antoine de St Exupéry (Les Avirons) \n\n\n\nAccompagnatrices : Mme Miladi et Mme Mercier
URL:https://etab.ac-reunion.fr/clg-adam-de-villiers/event/sortie-pedagogique-brigade-de-legalite/
CATEGORIES:Sortie pédagogique,Vie scolaire
END:VEVENT
BEGIN:VEVENT
DTSTART;TZID=Indian/Reunion:20251010T131000
DTEND;TZID=Indian/Reunion:20251010T154500
DTSTAMP:20260425T204307
CREATED:20251004T134349Z
LAST-MODIFIED:20251004T134350Z
UID:12093-1760101800-1760111100@etab.ac-reunion.fr
SUMMARY:Sortie pédagogique 4° option Créole
DESCRIPTION:Elèves concernés : 16 élèves de 4° option Créole \n\n\n\nLieu de destination : Centre Culturel Sud Z’histoir lé o (St Pierre) \n\n\n\nAccompagnatrices : Mme Quenou et Mme Lauret
URL:https://etab.ac-reunion.fr/clg-adam-de-villiers/event/sortie-pedagogique-4-option-creole/
CATEGORIES:Disciplines linguistiques,Sortie pédagogique
END:VEVENT
BEGIN:VEVENT
DTSTART;TZID=Indian/Reunion:20251029T073000
DTEND;TZID=Indian/Reunion:20251030T180000
DTSTAMP:20260425T204307
CREATED:20251022T055324Z
LAST-MODIFIED:20251022T055353Z
UID:12122-1761723000-1761847200@etab.ac-reunion.fr
SUMMARY:Sortie pédagogique 3° option Latin-Grec (Mascarin et Merle)
DESCRIPTION:
URL:https://etab.ac-reunion.fr/clg-adam-de-villiers/event/sortie-pedagogique-3-option-latin-grec-mascarin-et-merle/
CATEGORIES:Disciplines linguistiques,Sortie pédagogique
END:VEVENT
BEGIN:VEVENT
DTSTART;TZID=Indian/Reunion:20251031T073000
DTEND;TZID=Indian/Reunion:20251031T151000
DTSTAMP:20260425T204307
CREATED:20251022T054910Z
LAST-MODIFIED:20251022T054919Z
UID:12117-1761895800-1761923400@etab.ac-reunion.fr
SUMMARY:Sortie pédagogique 5° Vétiver
DESCRIPTION:Elèves concernés : 5° Vétiver \n\n\n\nLieu : Tamarinaie Ravine Blanche (Plaine des Cafres – Le Tampon) \n\n\n\nAccompagnatrices : Mme Lecrosnier et Mme Gavourou
URL:https://etab.ac-reunion.fr/clg-adam-de-villiers/event/sortie-pedagogique-5-vetiver-5/
CATEGORIES:Disciplines linguistiques,Sortie pédagogique
END:VEVENT
END:VCALENDAR