BEGIN:VCALENDAR
VERSION:2.0
PRODID:-//Collège Emilien Adam de Villiers - ECPv6.15.20//NONSGML v1.0//EN
CALSCALE:GREGORIAN
METHOD:PUBLISH
X-ORIGINAL-URL:https://etab.ac-reunion.fr/clg-adam-de-villiers
X-WR-CALDESC:Évènements pour Collège Emilien Adam de Villiers
REFRESH-INTERVAL;VALUE=DURATION:PT1H
X-Robots-Tag:noindex
X-PUBLISHED-TTL:PT1H
BEGIN:VTIMEZONE
TZID:Indian/Reunion
BEGIN:STANDARD
TZOFFSETFROM:+0400
TZOFFSETTO:+0400
TZNAME:+04
DTSTART:20240101T000000
END:STANDARD
END:VTIMEZONE
BEGIN:VEVENT
DTSTART;TZID=Indian/Reunion:20251031T073000
DTEND;TZID=Indian/Reunion:20251031T151000
DTSTAMP:20260425T204423
CREATED:20251022T054910Z
LAST-MODIFIED:20251022T054919Z
UID:12117-1761895800-1761923400@etab.ac-reunion.fr
SUMMARY:Sortie pédagogique 5° Vétiver
DESCRIPTION:Elèves concernés : 5° Vétiver \n\n\n\nLieu : Tamarinaie Ravine Blanche (Plaine des Cafres – Le Tampon) \n\n\n\nAccompagnatrices : Mme Lecrosnier et Mme Gavourou
URL:https://etab.ac-reunion.fr/clg-adam-de-villiers/event/sortie-pedagogique-5-vetiver-5/
CATEGORIES:Disciplines linguistiques,Sortie pédagogique
END:VEVENT
END:VCALENDAR