BEGIN:VCALENDAR
VERSION:2.0
PRODID:-//Collège Emilien Adam de Villiers - ECPv6.15.20//NONSGML v1.0//EN
CALSCALE:GREGORIAN
METHOD:PUBLISH
X-ORIGINAL-URL:https://etab.ac-reunion.fr/clg-adam-de-villiers
X-WR-CALDESC:Évènements pour Collège Emilien Adam de Villiers
REFRESH-INTERVAL;VALUE=DURATION:PT1H
X-Robots-Tag:noindex
X-PUBLISHED-TTL:PT1H
BEGIN:VTIMEZONE
TZID:Indian/Reunion
BEGIN:STANDARD
TZOFFSETFROM:+0400
TZOFFSETTO:+0400
TZNAME:+04
DTSTART:20240101T000000
END:STANDARD
END:VTIMEZONE
BEGIN:VEVENT
DTSTART;TZID=Indian/Reunion:20250627T173000
DTEND;TZID=Indian/Reunion:20250627T213000
DTSTAMP:20260425T223144
CREATED:20250621T064424Z
LAST-MODIFIED:20250621T064425Z
UID:11911-1751045400-1751059800@etab.ac-reunion.fr
SUMMARY:Bal des 3°
DESCRIPTION:
URL:https://etab.ac-reunion.fr/clg-adam-de-villiers/event/bal-des-3-3/
CATEGORIES:Vie scolaire
END:VEVENT
END:VCALENDAR