BEGIN:VCALENDAR
VERSION:2.0
PRODID:-//Collège Emilien Adam de Villiers - ECPv6.15.20//NONSGML v1.0//EN
CALSCALE:GREGORIAN
METHOD:PUBLISH
X-ORIGINAL-URL:https://etab.ac-reunion.fr/clg-adam-de-villiers
X-WR-CALDESC:Évènements pour Collège Emilien Adam de Villiers
REFRESH-INTERVAL;VALUE=DURATION:PT1H
X-Robots-Tag:noindex
X-PUBLISHED-TTL:PT1H
BEGIN:VTIMEZONE
TZID:Indian/Reunion
BEGIN:STANDARD
TZOFFSETFROM:+0400
TZOFFSETTO:+0400
TZNAME:+04
DTSTART:20250101T000000
END:STANDARD
END:VTIMEZONE
BEGIN:VEVENT
DTSTART;TZID=Indian/Reunion:20260423T080000
DTEND;TZID=Indian/Reunion:20260423T160000
DTSTAMP:20260422T231831
CREATED:20260419T110613Z
LAST-MODIFIED:20260419T110715Z
UID:12406-1776931200-1776960000@etab.ac-reunion.fr
SUMMARY:Sortie pédagogique Option Créole & Eco-délégués
DESCRIPTION:Elèves concernés : 18 élèves option Créole et Eco-délégués \n\n\n\nLieu : La Kour Madame Henri (Petite-Ile) \n\n\n\nAccompagnateurs : Mme Anzouli et Mme Quenou
URL:https://etab.ac-reunion.fr/clg-adam-de-villiers/event/sortie-pedagogique-option-creole-eco-delegues/
CATEGORIES:Disciplines linguistiques,EDD / Eco-délégués,Sortie pédagogique
END:VEVENT
BEGIN:VEVENT
DTSTART;TZID=Indian/Reunion:20260501T000000
DTEND;TZID=Indian/Reunion:20260517T235959
DTSTAMP:20260422T231831
CREATED:20260221T143648Z
LAST-MODIFIED:20260221T143648Z
UID:12357-1777593600-1779062399@etab.ac-reunion.fr
SUMMARY:Vacances scolaires
DESCRIPTION:
URL:https://etab.ac-reunion.fr/clg-adam-de-villiers/event/vacances-scolaires-12/
CATEGORIES:Vacances
END:VEVENT
BEGIN:VEVENT
DTSTART;TZID=Indian/Reunion:20260704T000000
DTEND;TZID=Indian/Reunion:20260817T235959
DTSTAMP:20260422T231831
CREATED:20260221T143800Z
LAST-MODIFIED:20260221T143800Z
UID:12359-1783123200-1787011199@etab.ac-reunion.fr
SUMMARY:Vacances scolaires
DESCRIPTION:
URL:https://etab.ac-reunion.fr/clg-adam-de-villiers/event/vacances-scolaires-13/
CATEGORIES:Vacances
END:VEVENT
END:VCALENDAR