BEGIN:VCALENDAR
VERSION:2.0
PRODID:-//Collège Emilien Adam de Villiers - ECPv6.15.20//NONSGML v1.0//EN
CALSCALE:GREGORIAN
METHOD:PUBLISH
X-ORIGINAL-URL:https://etab.ac-reunion.fr/clg-adam-de-villiers
X-WR-CALDESC:Évènements pour Collège Emilien Adam de Villiers
REFRESH-INTERVAL;VALUE=DURATION:PT1H
X-Robots-Tag:noindex
X-PUBLISHED-TTL:PT1H
BEGIN:VTIMEZONE
TZID:Indian/Reunion
BEGIN:STANDARD
TZOFFSETFROM:+0400
TZOFFSETTO:+0400
TZNAME:+04
DTSTART:20210101T000000
END:STANDARD
END:VTIMEZONE
BEGIN:VEVENT
DTSTART;TZID=Indian/Reunion:20221202T073000
DTEND;TZID=Indian/Reunion:20221202T162000
DTSTAMP:20260425T074948
CREATED:20221206T052301Z
LAST-MODIFIED:20221206T052302Z
UID:9724-1669966200-1669998000@etab.ac-reunion.fr
SUMMARY:Téléthon
DESCRIPTION:
URL:https://etab.ac-reunion.fr/clg-adam-de-villiers/event/telethon-2/
CATEGORIES:Manifestation
END:VEVENT
BEGIN:VEVENT
DTSTART;TZID=Indian/Reunion:20221205T153000
DTEND;TZID=Indian/Reunion:20221205T163000
DTSTAMP:20260425T074948
CREATED:20221126T121937Z
LAST-MODIFIED:20221126T125744Z
UID:9595-1670254200-1670257800@etab.ac-reunion.fr
SUMMARY:Conseil de classe S1 6° Gecko
DESCRIPTION:
URL:https://etab.ac-reunion.fr/clg-adam-de-villiers/event/conseil-de-classe-s1-6-gecko/
CATEGORIES:Conseil de classe
END:VEVENT
BEGIN:VEVENT
DTSTART;TZID=Indian/Reunion:20221205T163000
DTEND;TZID=Indian/Reunion:20221205T173000
DTSTAMP:20260425T074948
CREATED:20221126T122013Z
LAST-MODIFIED:20221126T122013Z
UID:9598-1670257800-1670261400@etab.ac-reunion.fr
SUMMARY:Conseil de classe S1 6° Tec-tec
DESCRIPTION:
URL:https://etab.ac-reunion.fr/clg-adam-de-villiers/event/conseil-de-classe-s1-6-tec-tec/
CATEGORIES:Conseil de classe
END:VEVENT
BEGIN:VEVENT
DTSTART;TZID=Indian/Reunion:20221205T173000
DTEND;TZID=Indian/Reunion:20221205T183000
DTSTAMP:20260425T074948
CREATED:20221126T122044Z
LAST-MODIFIED:20221126T122044Z
UID:9601-1670261400-1670265000@etab.ac-reunion.fr
SUMMARY:Conseil de classe S1 4° Fanjan
DESCRIPTION:
URL:https://etab.ac-reunion.fr/clg-adam-de-villiers/event/conseil-de-classe-s1-4-fanjan/
CATEGORIES:Conseil de classe
END:VEVENT
BEGIN:VEVENT
DTSTART;TZID=Indian/Reunion:20221206T153000
DTEND;TZID=Indian/Reunion:20221206T163000
DTSTAMP:20260425T074948
CREATED:20221126T122129Z
LAST-MODIFIED:20221126T122251Z
UID:9604-1670340600-1670344200@etab.ac-reunion.fr
SUMMARY:Conseil de classe S1 4° Benjoin
DESCRIPTION:
URL:https://etab.ac-reunion.fr/clg-adam-de-villiers/event/conseil-de-classe-s1-4-benjoin/
CATEGORIES:Conseil de classe
END:VEVENT
BEGIN:VEVENT
DTSTART;TZID=Indian/Reunion:20221206T153000
DTEND;TZID=Indian/Reunion:20221206T163000
DTSTAMP:20260425T074948
CREATED:20221126T122159Z
LAST-MODIFIED:20221126T122311Z
UID:9607-1670340600-1670344200@etab.ac-reunion.fr
SUMMARY:Conseil de classe S1 5° Safran
DESCRIPTION:
URL:https://etab.ac-reunion.fr/clg-adam-de-villiers/event/conseil-de-classe-s1-5-safran/
CATEGORIES:Conseil de classe
END:VEVENT
BEGIN:VEVENT
DTSTART;TZID=Indian/Reunion:20221206T163000
DTEND;TZID=Indian/Reunion:20221206T173000
DTSTAMP:20260425T074948
CREATED:20221126T122231Z
LAST-MODIFIED:20221126T122231Z
UID:9610-1670344200-1670347800@etab.ac-reunion.fr
SUMMARY:Conseil de classe S1 4° Latanier
DESCRIPTION:
URL:https://etab.ac-reunion.fr/clg-adam-de-villiers/event/conseil-de-classe-s1-4-latanier/
CATEGORIES:Conseil de classe
END:VEVENT
BEGIN:VEVENT
DTSTART;TZID=Indian/Reunion:20221206T163000
DTEND;TZID=Indian/Reunion:20221206T173000
DTSTAMP:20260425T074948
CREATED:20221126T122342Z
LAST-MODIFIED:20221126T122342Z
UID:9613-1670344200-1670347800@etab.ac-reunion.fr
SUMMARY:Conseil de classe S1 5° Vétiver
DESCRIPTION:
URL:https://etab.ac-reunion.fr/clg-adam-de-villiers/event/conseil-de-classe-s1-5-vetiver/
CATEGORIES:Conseil de classe
END:VEVENT
BEGIN:VEVENT
DTSTART;TZID=Indian/Reunion:20221206T173000
DTEND;TZID=Indian/Reunion:20221206T183000
DTSTAMP:20260425T074948
CREATED:20221126T122425Z
LAST-MODIFIED:20221126T122426Z
UID:9616-1670347800-1670351400@etab.ac-reunion.fr
SUMMARY:Conseil de classe S1 4° Palmiste
DESCRIPTION:
URL:https://etab.ac-reunion.fr/clg-adam-de-villiers/event/conseil-de-classe-s1-4-palmiste/
CATEGORIES:Conseil de classe
END:VEVENT
BEGIN:VEVENT
DTSTART;TZID=Indian/Reunion:20221206T173000
DTEND;TZID=Indian/Reunion:20221206T183000
DTSTAMP:20260425T074948
CREATED:20221126T122455Z
LAST-MODIFIED:20221126T122455Z
UID:9619-1670347800-1670351400@etab.ac-reunion.fr
SUMMARY:Conseil de classe S1 5° Ylang
DESCRIPTION:
URL:https://etab.ac-reunion.fr/clg-adam-de-villiers/event/conseil-de-classe-s1-5-ylang/
CATEGORIES:Conseil de classe
END:VEVENT
BEGIN:VEVENT
DTSTART;TZID=Indian/Reunion:20221207T073000
DTEND;TZID=Indian/Reunion:20221207T112000
DTSTAMP:20260425T074948
CREATED:20221206T051351Z
LAST-MODIFIED:20221206T051402Z
UID:9707-1670398200-1670412000@etab.ac-reunion.fr
SUMMARY:Sortie pédagogique Ecran Jeunes
DESCRIPTION:Elèves concernés : 6° Corail\, 6° Tuit-tuit\, 5° Vanille et 5° Ylang \nLieu : Saint Pierre \nAccompagnateurs : M. Pointeau\, M. Caro G\, Mme Orlando et Mme Tovagliaro
URL:https://etab.ac-reunion.fr/clg-adam-de-villiers/event/sortie-pedagogique-ecran-jeunes-3/
CATEGORIES:Sortie pédagogique
END:VEVENT
BEGIN:VEVENT
DTSTART;TZID=Indian/Reunion:20221208T153000
DTEND;TZID=Indian/Reunion:20221208T163000
DTSTAMP:20260425T074948
CREATED:20221126T122540Z
LAST-MODIFIED:20221126T122540Z
UID:9622-1670513400-1670517000@etab.ac-reunion.fr
SUMMARY:Conseil de classe S1 4° Tamarin
DESCRIPTION:
URL:https://etab.ac-reunion.fr/clg-adam-de-villiers/event/conseil-de-classe-s1-4-tamarin/
CATEGORIES:Conseil de classe
END:VEVENT
BEGIN:VEVENT
DTSTART;TZID=Indian/Reunion:20221208T153000
DTEND;TZID=Indian/Reunion:20221208T163000
DTSTAMP:20260425T074948
CREATED:20221126T122607Z
LAST-MODIFIED:20221126T122607Z
UID:9625-1670513400-1670517000@etab.ac-reunion.fr
SUMMARY:Conseil de classe S1 5° Vanille
DESCRIPTION:
URL:https://etab.ac-reunion.fr/clg-adam-de-villiers/event/conseil-de-classe-s1-5-vanille/
CATEGORIES:Conseil de classe
END:VEVENT
BEGIN:VEVENT
DTSTART;TZID=Indian/Reunion:20221208T163000
DTEND;TZID=Indian/Reunion:20221208T173000
DTSTAMP:20260425T074948
CREATED:20221126T122655Z
LAST-MODIFIED:20221126T122655Z
UID:9628-1670517000-1670520600@etab.ac-reunion.fr
SUMMARY:Conseil de classe S1 5° Baie-rose
DESCRIPTION:
URL:https://etab.ac-reunion.fr/clg-adam-de-villiers/event/conseil-de-classe-s1-5-baie-rose/
CATEGORIES:Conseil de classe
END:VEVENT
BEGIN:VEVENT
DTSTART;TZID=Indian/Reunion:20221208T163000
DTEND;TZID=Indian/Reunion:20221208T173000
DTSTAMP:20260425T074948
CREATED:20221126T122738Z
LAST-MODIFIED:20221126T122738Z
UID:9631-1670517000-1670520600@etab.ac-reunion.fr
SUMMARY:Conseil de classe S1 6° Tuit-tuit
DESCRIPTION:
URL:https://etab.ac-reunion.fr/clg-adam-de-villiers/event/conseil-de-classe-s1-6-tuit-tuit/
CATEGORIES:Conseil de classe
END:VEVENT
BEGIN:VEVENT
DTSTART;TZID=Indian/Reunion:20221208T173000
DTEND;TZID=Indian/Reunion:20221208T183000
DTSTAMP:20260425T074948
CREATED:20221126T125913Z
LAST-MODIFIED:20221126T125914Z
UID:9635-1670520600-1670524200@etab.ac-reunion.fr
SUMMARY:Conseil de classe S1 4° Mahot
DESCRIPTION:
URL:https://etab.ac-reunion.fr/clg-adam-de-villiers/event/conseil-de-classe-s1-4-mahot/
CATEGORIES:Conseil de classe
END:VEVENT
BEGIN:VEVENT
DTSTART;TZID=Indian/Reunion:20221208T173000
DTEND;TZID=Indian/Reunion:20221208T183000
DTSTAMP:20260425T074948
CREATED:20221126T125944Z
LAST-MODIFIED:20221126T125944Z
UID:9638-1670520600-1670524200@etab.ac-reunion.fr
SUMMARY:Conseil de classe S1 5° Géranium
DESCRIPTION:
URL:https://etab.ac-reunion.fr/clg-adam-de-villiers/event/conseil-de-classe-s1-5-geranium/
CATEGORIES:Conseil de classe
END:VEVENT
BEGIN:VEVENT
DTSTART;TZID=Indian/Reunion:20221209T000000
DTEND;TZID=Indian/Reunion:20221209T235959
DTSTAMP:20260425T074948
CREATED:20220926T154741Z
LAST-MODIFIED:20220926T154742Z
UID:9258-1670544000-1670630399@etab.ac-reunion.fr
SUMMARY:Repas de Noël
DESCRIPTION:
URL:https://etab.ac-reunion.fr/clg-adam-de-villiers/event/repas-de-noel/
CATEGORIES:Manifestation,Vie scolaire
END:VEVENT
BEGIN:VEVENT
DTSTART;TZID=Indian/Reunion:20221209T143000
DTEND;TZID=Indian/Reunion:20221209T153000
DTSTAMP:20260425T074948
CREATED:20221126T130026Z
LAST-MODIFIED:20221126T130026Z
UID:9641-1670596200-1670599800@etab.ac-reunion.fr
SUMMARY:Conseil de classe S1 6° Babouk
DESCRIPTION:
URL:https://etab.ac-reunion.fr/clg-adam-de-villiers/event/conseil-de-classe-s1-6-babouk/
CATEGORIES:Conseil de classe
END:VEVENT
BEGIN:VEVENT
DTSTART;TZID=Indian/Reunion:20221209T153000
DTEND;TZID=Indian/Reunion:20221209T163000
DTSTAMP:20260425T074948
CREATED:20221126T130055Z
LAST-MODIFIED:20221126T130055Z
UID:9644-1670599800-1670603400@etab.ac-reunion.fr
SUMMARY:Conseil de classe S1 6° Capucin
DESCRIPTION:
URL:https://etab.ac-reunion.fr/clg-adam-de-villiers/event/conseil-de-classe-s1-6-capucin/
CATEGORIES:Conseil de classe
END:VEVENT
BEGIN:VEVENT
DTSTART;TZID=Indian/Reunion:20221209T163000
DTEND;TZID=Indian/Reunion:20221209T173000
DTSTAMP:20260425T074948
CREATED:20221126T130128Z
LAST-MODIFIED:20221126T130128Z
UID:9647-1670603400-1670607000@etab.ac-reunion.fr
SUMMARY:Conseil de classe S1 6° Corail
DESCRIPTION:
URL:https://etab.ac-reunion.fr/clg-adam-de-villiers/event/conseil-de-classe-s1-6-corail/
CATEGORIES:Conseil de classe
END:VEVENT
BEGIN:VEVENT
DTSTART;TZID=Indian/Reunion:20221212T073000
DTEND;TZID=Indian/Reunion:20221212T113000
DTSTAMP:20260425T074948
CREATED:20221206T051900Z
LAST-MODIFIED:20221206T051930Z
UID:9711-1670830200-1670844600@etab.ac-reunion.fr
SUMMARY:Sortie pédagogique Ecran Jeunes
DESCRIPTION:Elèves concernés : 6° Capucin\, 6° Babouk\, 6° Gecko et 6° Tec-tec \nLieu : Saint-Pierre \nAccompagnateurs : M. Pointeau\, M. Caro G.\, Mme Duquesne et Mme Payet
URL:https://etab.ac-reunion.fr/clg-adam-de-villiers/event/sortie-pedagogique-ecran-jeunes-4/
CATEGORIES:Sortie pédagogique
END:VEVENT
BEGIN:VEVENT
DTSTART;TZID=Indian/Reunion:20221212T163000
DTEND;TZID=Indian/Reunion:20221212T183000
DTSTAMP:20260425T074948
CREATED:20221206T052050Z
LAST-MODIFIED:20221206T052050Z
UID:9715-1670862600-1670869800@etab.ac-reunion.fr
SUMMARY:Remise des bulletins des Conseils de classe des 6°
DESCRIPTION:
URL:https://etab.ac-reunion.fr/clg-adam-de-villiers/event/remise-des-bulletins-des-conseils-de-classe-des-6/
CATEGORIES:Administration,Conseil de classe
END:VEVENT
BEGIN:VEVENT
DTSTART;TZID=Indian/Reunion:20221212T163000
DTEND;TZID=Indian/Reunion:20221212T183000
DTSTAMP:20260425T074948
CREATED:20221214T050156Z
LAST-MODIFIED:20221214T050156Z
UID:9761-1670862600-1670869800@etab.ac-reunion.fr
SUMMARY:Remise bulletins Conseils T1 6°
DESCRIPTION:
URL:https://etab.ac-reunion.fr/clg-adam-de-villiers/event/remise-bulletins-conseils-t1-6/
CATEGORIES:Administration,Pédagogie
END:VEVENT
BEGIN:VEVENT
DTSTART;TZID=Indian/Reunion:20221213T163000
DTEND;TZID=Indian/Reunion:20221213T183000
DTSTAMP:20260425T074948
CREATED:20221206T052119Z
LAST-MODIFIED:20221206T052120Z
UID:9718-1670949000-1670956200@etab.ac-reunion.fr
SUMMARY:Remise des bulletins des Conseils de classe des 5°
DESCRIPTION:
URL:https://etab.ac-reunion.fr/clg-adam-de-villiers/event/remise-des-bulletins-des-conseils-de-classe-des-5/
CATEGORIES:Administration,Conseil de classe
END:VEVENT
BEGIN:VEVENT
DTSTART;TZID=Indian/Reunion:20221213T163000
DTEND;TZID=Indian/Reunion:20221213T183000
DTSTAMP:20260425T074948
CREATED:20221214T050226Z
LAST-MODIFIED:20221214T050226Z
UID:9764-1670949000-1670956200@etab.ac-reunion.fr
SUMMARY:Remise bulletins Conseils T1 5°
DESCRIPTION:
URL:https://etab.ac-reunion.fr/clg-adam-de-villiers/event/remise-bulletins-conseils-t1-5/
CATEGORIES:Administration,Pédagogie
END:VEVENT
BEGIN:VEVENT
DTSTART;TZID=Indian/Reunion:20221215T073000
DTEND;TZID=Indian/Reunion:20221215T114000
DTSTAMP:20260425T074948
CREATED:20221206T052402Z
LAST-MODIFIED:20221206T052402Z
UID:9727-1671089400-1671104400@etab.ac-reunion.fr
SUMMARY:Zourné kréol
DESCRIPTION:
URL:https://etab.ac-reunion.fr/clg-adam-de-villiers/event/zourne-kreol/
CATEGORIES:Manifestation
END:VEVENT
BEGIN:VEVENT
DTSTART;TZID=Indian/Reunion:20221215T163000
DTEND;TZID=Indian/Reunion:20221215T183000
DTSTAMP:20260425T074948
CREATED:20221206T052145Z
LAST-MODIFIED:20221206T052145Z
UID:9721-1671121800-1671129000@etab.ac-reunion.fr
SUMMARY:Remise des bulletins des Conseils de classe des 4°
DESCRIPTION:
URL:https://etab.ac-reunion.fr/clg-adam-de-villiers/event/remise-des-bulletins-des-conseils-de-classe-des-4/
CATEGORIES:Administration,Conseil de classe
END:VEVENT
BEGIN:VEVENT
DTSTART;TZID=Indian/Reunion:20221215T163000
DTEND;TZID=Indian/Reunion:20221215T183000
DTSTAMP:20260425T074948
CREATED:20221214T050254Z
LAST-MODIFIED:20221214T050254Z
UID:9767-1671121800-1671129000@etab.ac-reunion.fr
SUMMARY:Remise bulletins Conseils T1 4°
DESCRIPTION:
URL:https://etab.ac-reunion.fr/clg-adam-de-villiers/event/remise-bulletins-conseils-t1-4/
CATEGORIES:Administration,Pédagogie
END:VEVENT
BEGIN:VEVENT
DTSTART;TZID=Indian/Reunion:20221216T073000
DTEND;TZID=Indian/Reunion:20221216T114000
DTSTAMP:20260425T074948
CREATED:20221214T050457Z
LAST-MODIFIED:20221214T050458Z
UID:9771-1671175800-1671190800@etab.ac-reunion.fr
SUMMARY:Zourné kréol
DESCRIPTION:
URL:https://etab.ac-reunion.fr/clg-adam-de-villiers/event/zourne-kreol-2/
CATEGORIES:Manifestation
END:VEVENT
END:VCALENDAR