BEGIN:VCALENDAR
VERSION:2.0
PRODID:-//Collège Emilien Adam de Villiers - ECPv6.15.20//NONSGML v1.0//EN
CALSCALE:GREGORIAN
METHOD:PUBLISH
X-WR-CALNAME:Collège Emilien Adam de Villiers
X-ORIGINAL-URL:https://etab.ac-reunion.fr/clg-adam-de-villiers
X-WR-CALDESC:Évènements pour Collège Emilien Adam de Villiers
REFRESH-INTERVAL;VALUE=DURATION:PT1H
X-Robots-Tag:noindex
X-PUBLISHED-TTL:PT1H
BEGIN:VTIMEZONE
TZID:Indian/Reunion
BEGIN:STANDARD
TZOFFSETFROM:+0400
TZOFFSETTO:+0400
TZNAME:+04
DTSTART:20220101T000000
END:STANDARD
END:VTIMEZONE
BEGIN:VEVENT
DTSTART;TZID=Indian/Reunion:20230202T153000
DTEND;TZID=Indian/Reunion:20230202T163000
DTSTAMP:20260425T050442
CREATED:20221231T115426Z
LAST-MODIFIED:20221231T115426Z
UID:9802-1675351800-1675355400@etab.ac-reunion.fr
SUMMARY:Conseil S1 3° Merle
DESCRIPTION:
URL:https://etab.ac-reunion.fr/clg-adam-de-villiers/event/conseil-s1-3-merle-2/
CATEGORIES:Conseil de classe
END:VEVENT
BEGIN:VEVENT
DTSTART;TZID=Indian/Reunion:20230202T163000
DTEND;TZID=Indian/Reunion:20230202T173000
DTSTAMP:20260425T050442
CREATED:20221231T115447Z
LAST-MODIFIED:20221231T115519Z
UID:9805-1675355400-1675359000@etab.ac-reunion.fr
SUMMARY:Conseil S1 3°  Sterne
DESCRIPTION:
URL:https://etab.ac-reunion.fr/clg-adam-de-villiers/event/conseil-s1-3-sterne-2/
CATEGORIES:Conseil de classe
END:VEVENT
BEGIN:VEVENT
DTSTART;TZID=Indian/Reunion:20230214T163000
DTEND;TZID=Indian/Reunion:20230214T183000
DTSTAMP:20260425T050442
CREATED:20230217T143323Z
LAST-MODIFIED:20230217T143323Z
UID:9869-1676392200-1676399400@etab.ac-reunion.fr
SUMMARY:Remise des bulletins (Conseil 1er semestre des 3°)
DESCRIPTION:
URL:https://etab.ac-reunion.fr/clg-adam-de-villiers/event/remise-des-bulletins-conseil-1er-semestre-des-3/
CATEGORIES:Administration
END:VEVENT
BEGIN:VEVENT
DTSTART;TZID=Indian/Reunion:20230214T170000
DTEND;TZID=Indian/Reunion:20230214T193000
DTSTAMP:20260425T050442
CREATED:20230217T143743Z
LAST-MODIFIED:20230217T143743Z
UID:9875-1676394000-1676403000@etab.ac-reunion.fr
SUMMARY:Conseil d'Administration
DESCRIPTION:
URL:https://etab.ac-reunion.fr/clg-adam-de-villiers/event/conseil-dadministration-10/
CATEGORIES:Administration
END:VEVENT
BEGIN:VEVENT
DTSTART;TZID=Indian/Reunion:20230217T080000
DTEND;TZID=Indian/Reunion:20230217T170000
DTSTAMP:20260425T050442
CREATED:20230217T144232Z
LAST-MODIFIED:20230217T151152Z
UID:9884-1676620800-1676653200@etab.ac-reunion.fr
SUMMARY:Sortie pédagogique au Téat Champ Fleuri
DESCRIPTION:Elèves concernés : groupe danse (certains élèves de 5° Géranium\, 4° Fanjan et 3° Salangane) \nLieu : Téat Champ Fleuri (Saint-Denis) \nAccompagnateurs : Mme Jono et parents d’élèves
URL:https://etab.ac-reunion.fr/clg-adam-de-villiers/event/sortie-pedagogique-au-teat-champ-fleuri/
CATEGORIES:Disciplines artistiques,Disciplines sportives
END:VEVENT
BEGIN:VEVENT
DTSTART;TZID=Indian/Reunion:20230218T083000
DTEND;TZID=Indian/Reunion:20230218T113000
DTSTAMP:20260425T050442
CREATED:20230217T143633Z
LAST-MODIFIED:20230217T143633Z
UID:9872-1676709000-1676719800@etab.ac-reunion.fr
SUMMARY:Finale locale Scrabble
DESCRIPTION:Lieu : Réfectoire
URL:https://etab.ac-reunion.fr/clg-adam-de-villiers/event/finale-locale-scrabble/
CATEGORIES:Disciplines linguistiques,Manifestation
END:VEVENT
BEGIN:VEVENT
DTSTART;TZID=Indian/Reunion:20230224T083000
DTEND;TZID=Indian/Reunion:20230224T120000
DTSTAMP:20260425T050442
CREATED:20230217T143946Z
LAST-MODIFIED:20230217T143946Z
UID:9881-1677227400-1677240000@etab.ac-reunion.fr
SUMMARY:Visite MFR Le Tampon
DESCRIPTION:
URL:https://etab.ac-reunion.fr/clg-adam-de-villiers/event/visite-mfr-le-tampon/
CATEGORIES:Orientation post 3°,Pédagogie
END:VEVENT
BEGIN:VEVENT
DTSTART;TZID=Indian/Reunion:20230227T000000
DTEND;TZID=Indian/Reunion:20230303T235959
DTSTAMP:20260425T050442
CREATED:20230217T143833Z
LAST-MODIFIED:20230227T151219Z
UID:9878-1677456000-1677887999@etab.ac-reunion.fr
SUMMARY:Semaine "Egalité filles-garçons" (décalée)
DESCRIPTION:
URL:https://etab.ac-reunion.fr/clg-adam-de-villiers/event/semaine-egalite-filles-garcons-2/
CATEGORIES:Manifestation,Vie scolaire
END:VEVENT
END:VCALENDAR