BEGIN:VCALENDAR
VERSION:2.0
PRODID:-//Collège Emilien Adam de Villiers - ECPv6.15.20//NONSGML v1.0//EN
CALSCALE:GREGORIAN
METHOD:PUBLISH
X-ORIGINAL-URL:https://etab.ac-reunion.fr/clg-adam-de-villiers
X-WR-CALDESC:Évènements pour Collège Emilien Adam de Villiers
REFRESH-INTERVAL;VALUE=DURATION:PT1H
X-Robots-Tag:noindex
X-PUBLISHED-TTL:PT1H
BEGIN:VTIMEZONE
TZID:Indian/Reunion
BEGIN:STANDARD
TZOFFSETFROM:+0400
TZOFFSETTO:+0400
TZNAME:+04
DTSTART:20220101T000000
END:STANDARD
END:VTIMEZONE
BEGIN:VEVENT
DTSTART;TZID=Indian/Reunion:20230513T080000
DTEND;TZID=Indian/Reunion:20230529T170000
DTSTAMP:20260425T005513
CREATED:20230613T050652Z
LAST-MODIFIED:20230613T050652Z
UID:10299-1683964800-1685379600@etab.ac-reunion.fr
SUMMARY:Vacances scolaires
DESCRIPTION:
URL:https://etab.ac-reunion.fr/clg-adam-de-villiers/event/vacances-scolaires-5/
END:VEVENT
BEGIN:VEVENT
DTSTART;TZID=Indian/Reunion:20230531T073000
DTEND;TZID=Indian/Reunion:20230531T160000
DTSTAMP:20260425T005513
CREATED:20230531T182359Z
LAST-MODIFIED:20230613T050233Z
UID:10072-1685518200-1685548800@etab.ac-reunion.fr
SUMMARY:Sortie pédagogique Ste Marie
DESCRIPTION:Elèves concernés : élèves du CVC \n\n\n\nLieu : CinéPalmes (Ste Marie) \n\n\n\nAccompagnateur : M. Bigot
URL:https://etab.ac-reunion.fr/clg-adam-de-villiers/event/sortie-pedagogique-ste-marie/
CATEGORIES:Sortie pédagogique,Vie scolaire
END:VEVENT
BEGIN:VEVENT
DTSTART;TZID=Indian/Reunion:20230531T083000
DTEND;TZID=Indian/Reunion:20230531T092500
DTSTAMP:20260425T005513
CREATED:20230531T181617Z
LAST-MODIFIED:20230613T050253Z
UID:10060-1685521800-1685525100@etab.ac-reunion.fr
SUMMARY:Conseil S2 3° Sterne
DESCRIPTION:
URL:https://etab.ac-reunion.fr/clg-adam-de-villiers/event/conseil-s2-3-sterne/
CATEGORIES:Conseil de classe
END:VEVENT
BEGIN:VEVENT
DTSTART;TZID=Indian/Reunion:20230531T094500
DTEND;TZID=Indian/Reunion:20230531T104000
DTSTAMP:20260425T005513
CREATED:20230531T181723Z
LAST-MODIFIED:20230613T050304Z
UID:10062-1685526300-1685529600@etab.ac-reunion.fr
SUMMARY:Conseil S2 3° Papangue
DESCRIPTION:
URL:https://etab.ac-reunion.fr/clg-adam-de-villiers/event/conseil-s2-3-papangue/
CATEGORIES:Conseil de classe
END:VEVENT
BEGIN:VEVENT
DTSTART;TZID=Indian/Reunion:20230531T131500
DTEND;TZID=Indian/Reunion:20230531T141000
DTSTAMP:20260425T005513
CREATED:20230531T181905Z
LAST-MODIFIED:20230613T050313Z
UID:10066-1685538900-1685542200@etab.ac-reunion.fr
SUMMARY:Conseil S2 3° Merle
DESCRIPTION:
URL:https://etab.ac-reunion.fr/clg-adam-de-villiers/event/conseil-s2-3-merle/
CATEGORIES:Conseil de classe
END:VEVENT
BEGIN:VEVENT
DTSTART;TZID=Indian/Reunion:20230531T141500
DTEND;TZID=Indian/Reunion:20230531T151000
DTSTAMP:20260425T005513
CREATED:20230531T181943Z
LAST-MODIFIED:20230531T181943Z
UID:10068-1685542500-1685545800@etab.ac-reunion.fr
SUMMARY:Conseil S2 3° Pétrel
DESCRIPTION:
URL:https://etab.ac-reunion.fr/clg-adam-de-villiers/event/conseil-s2-3-petrel/
END:VEVENT
BEGIN:VEVENT
DTSTART;TZID=Indian/Reunion:20230531T152500
DTEND;TZID=Indian/Reunion:20230531T162000
DTSTAMP:20260425T005513
CREATED:20230531T182031Z
LAST-MODIFIED:20230613T050322Z
UID:10070-1685546700-1685550000@etab.ac-reunion.fr
SUMMARY:Conseil S2 3° Timize
DESCRIPTION:
URL:https://etab.ac-reunion.fr/clg-adam-de-villiers/event/conseil-s2-3-timize/
CATEGORIES:Conseil de classe
END:VEVENT
END:VCALENDAR