BEGIN:VCALENDAR
VERSION:2.0
PRODID:-//Collège Emilien Adam de Villiers - ECPv6.15.20//NONSGML v1.0//EN
CALSCALE:GREGORIAN
METHOD:PUBLISH
X-WR-CALNAME:Collège Emilien Adam de Villiers
X-ORIGINAL-URL:https://etab.ac-reunion.fr/clg-adam-de-villiers
X-WR-CALDESC:Évènements pour Collège Emilien Adam de Villiers
REFRESH-INTERVAL;VALUE=DURATION:PT1H
X-Robots-Tag:noindex
X-PUBLISHED-TTL:PT1H
BEGIN:VTIMEZONE
TZID:Indian/Reunion
BEGIN:STANDARD
TZOFFSETFROM:+0400
TZOFFSETTO:+0400
TZNAME:+04
DTSTART:20220101T000000
END:STANDARD
END:VTIMEZONE
BEGIN:VEVENT
DTSTART;TZID=Indian/Reunion:20230601T073000
DTEND;TZID=Indian/Reunion:20230601T082500
DTSTAMP:20260424T232850
CREATED:20230531T181451Z
LAST-MODIFIED:20230613T050332Z
UID:10058-1685604600-1685607900@etab.ac-reunion.fr
SUMMARY:Conseil S2 3° Salangane
DESCRIPTION:
URL:https://etab.ac-reunion.fr/clg-adam-de-villiers/event/conseil-s2-3-salangane/
CATEGORIES:Conseil de classe
END:VEVENT
BEGIN:VEVENT
DTSTART;TZID=Indian/Reunion:20230601T104500
DTEND;TZID=Indian/Reunion:20230601T114000
DTSTAMP:20260424T232850
CREATED:20230531T181813Z
LAST-MODIFIED:20230613T050340Z
UID:10064-1685616300-1685619600@etab.ac-reunion.fr
SUMMARY:Conseil S2 3° Mascarin
DESCRIPTION:
URL:https://etab.ac-reunion.fr/clg-adam-de-villiers/event/conseil-s2-3-mascarin/
CATEGORIES:Conseil de classe
END:VEVENT
BEGIN:VEVENT
DTSTART;TZID=Indian/Reunion:20230605T073000
DTEND;TZID=Indian/Reunion:20230605T150000
DTSTAMP:20260424T232850
CREATED:20230531T182753Z
LAST-MODIFIED:20230613T050207Z
UID:10074-1685950200-1685977200@etab.ac-reunion.fr
SUMMARY:Sortie pédagogique Etang Salé
DESCRIPTION:Elèves concernés : option EPS \n\n\n\nLieu : Etang Salé les Bains \n\n\n\nAccompagnateurs : M. Mazzoli et M. Foncarnier
URL:https://etab.ac-reunion.fr/clg-adam-de-villiers/event/sortie-pedagogique-etang-sale-2/
CATEGORIES:Disciplines sportives,Sortie pédagogique
END:VEVENT
BEGIN:VEVENT
DTSTART;TZID=Indian/Reunion:20230609T080000
DTEND;TZID=Indian/Reunion:20230609T153000
DTSTAMP:20260424T232850
CREATED:20230607T061850Z
LAST-MODIFIED:20230613T050003Z
UID:10124-1686297600-1686324600@etab.ac-reunion.fr
SUMMARY:Sortie pédagogique au Jardin Botanique de Mascarin
DESCRIPTION:Elèves concernés : 6° Babouk \n\n\n\nLieu : Jardin Botanique de Mascarin (Saint Leu) \n\n\n\nAccompagnateurs : Mme Quenou\, Mme Leger et Mme Duquesne
URL:https://etab.ac-reunion.fr/clg-adam-de-villiers/event/sortie-pedagogique-au-jardin-botanique-de-mascarin/
CATEGORIES:EMI,Sortie pédagogique
END:VEVENT
BEGIN:VEVENT
DTSTART;TZID=Indian/Reunion:20230612T073000
DTEND;TZID=Indian/Reunion:20230612T150000
DTSTAMP:20260424T232850
CREATED:20230607T062451Z
LAST-MODIFIED:20230613T050020Z
UID:10126-1686555000-1686582000@etab.ac-reunion.fr
SUMMARY:Sortie pédagogique à Etang Salé
DESCRIPTION:Elèves concernés : 3° Salangane  \n\n\n\nLieu : Forêt d’Etang Salé \n\n\n\nAccompagnateurs : Mme Jono\, M. Mazzoli et M. Foncarnier
URL:https://etab.ac-reunion.fr/clg-adam-de-villiers/event/sortie-pedagogique-a-etang-sale-2/
CATEGORIES:Disciplines sportives,Sortie pédagogique
END:VEVENT
BEGIN:VEVENT
DTSTART;TZID=Indian/Reunion:20230615T073000
DTEND;TZID=Indian/Reunion:20230615T160000
DTSTAMP:20260424T232850
CREATED:20230607T062738Z
LAST-MODIFIED:20230613T050032Z
UID:10128-1686814200-1686844800@etab.ac-reunion.fr
SUMMARY:Sortie pédagogique St Pierre - St Gilles
DESCRIPTION:Elèves concernés : 4° Latanier \n\n\n\nLieu : De Saint Pierre à Saint Gilles \n\n\n\nAccompagnateurs : M. Vanbaelinghem et Mme Brabant
URL:https://etab.ac-reunion.fr/clg-adam-de-villiers/event/sortie-pedagogique-st-pierre-st-gilles/
CATEGORIES:Sortie pédagogique
END:VEVENT
BEGIN:VEVENT
DTSTART;TZID=Indian/Reunion:20230616T074500
DTEND;TZID=Indian/Reunion:20230616T123000
DTSTAMP:20260424T232850
CREATED:20230607T063735Z
LAST-MODIFIED:20230613T050050Z
UID:10130-1686901500-1686918600@etab.ac-reunion.fr
SUMMARY:Sortie pédagogique à Acroroc
DESCRIPTION:Elèves concernés : 50 élèves de 5°\, 4° et 3° \n\n\n\nLieu : Acroroc (St Pierre) \n\n\n\nAccompagnateurs : Mme Ruellan\, Mme Jono\, M. Mazzoli\, Mme Lecarpentier et Mme Bénard
URL:https://etab.ac-reunion.fr/clg-adam-de-villiers/event/sortie-pedagogique-acroroc/
CATEGORIES:Disciplines sportives,Sortie pédagogique
END:VEVENT
BEGIN:VEVENT
DTSTART;TZID=Indian/Reunion:20230616T094000
DTEND;TZID=Indian/Reunion:20230616T120000
DTSTAMP:20260424T232850
CREATED:20230607T064111Z
LAST-MODIFIED:20230613T050106Z
UID:10132-1686908400-1686916800@etab.ac-reunion.fr
SUMMARY:Sortie pédagogique à Pierrefond
DESCRIPTION:Elèves concernés : Toutes les classes de 6° + groupe « Tambour malbar » \n\n\n\nLieu : Salle de spectacle de Pierrefond (St Pierre) \n\n\n\nAccompagnateurs : M. Pointeau\, Mme Caro\, Mme Hoareau M.A.\, Mme Hoareau F.\, M. Vanbaelinghem\, Mme Anzoully\, Mme Kondoki\, Mme Duquesne et Mme Gigan
URL:https://etab.ac-reunion.fr/clg-adam-de-villiers/event/sortie-pedagogique-a-pierrefond/
CATEGORIES:Disciplines sportives,Sortie pédagogique
END:VEVENT
BEGIN:VEVENT
DTSTART;TZID=Indian/Reunion:20230616T141500
DTEND;TZID=Indian/Reunion:20230616T152500
DTSTAMP:20260424T232850
CREATED:20230607T064239Z
LAST-MODIFIED:20230613T045853Z
UID:10134-1686924900-1686929100@etab.ac-reunion.fr
SUMMARY:Conseil de classe S2 5° Safran
DESCRIPTION:
URL:https://etab.ac-reunion.fr/clg-adam-de-villiers/event/conseil-de-classe-s2-5-safran-2/
CATEGORIES:Conseil de classe
END:VEVENT
BEGIN:VEVENT
DTSTART;TZID=Indian/Reunion:20230616T141500
DTEND;TZID=Indian/Reunion:20230616T152500
DTSTAMP:20260424T232850
CREATED:20230607T064323Z
LAST-MODIFIED:20230613T045843Z
UID:10136-1686924900-1686929100@etab.ac-reunion.fr
SUMMARY:Conseil de classe S2 4° Latanier
DESCRIPTION:
URL:https://etab.ac-reunion.fr/clg-adam-de-villiers/event/conseil-de-classe-s2-4-latanier-2/
CATEGORIES:Conseil de classe
END:VEVENT
BEGIN:VEVENT
DTSTART;TZID=Indian/Reunion:20230616T152500
DTEND;TZID=Indian/Reunion:20230616T162000
DTSTAMP:20260424T232850
CREATED:20230607T064409Z
LAST-MODIFIED:20230613T045832Z
UID:10138-1686929100-1686932400@etab.ac-reunion.fr
SUMMARY:Conseil de classe S2 5° Baie-Rose
DESCRIPTION:
URL:https://etab.ac-reunion.fr/clg-adam-de-villiers/event/conseil-de-classe-s2-5-baie-rose-2/
CATEGORIES:Conseil de classe
END:VEVENT
BEGIN:VEVENT
DTSTART;TZID=Indian/Reunion:20230616T152500
DTEND;TZID=Indian/Reunion:20230616T162000
DTSTAMP:20260424T232850
CREATED:20230607T064445Z
LAST-MODIFIED:20230613T045823Z
UID:10140-1686929100-1686932400@etab.ac-reunion.fr
SUMMARY:Conseil de classe S2 4° Benjoin
DESCRIPTION:
URL:https://etab.ac-reunion.fr/clg-adam-de-villiers/event/conseil-de-classe-s2-4-benjoin-2/
CATEGORIES:Conseil de classe
END:VEVENT
BEGIN:VEVENT
DTSTART;TZID=Indian/Reunion:20230616T162000
DTEND;TZID=Indian/Reunion:20230616T172000
DTSTAMP:20260424T232850
CREATED:20230607T064531Z
LAST-MODIFIED:20230613T045814Z
UID:10142-1686932400-1686936000@etab.ac-reunion.fr
SUMMARY:Conseil de classe S2 5° Vetiver
DESCRIPTION:
URL:https://etab.ac-reunion.fr/clg-adam-de-villiers/event/conseil-de-classe-s2-5-vetiver-2/
CATEGORIES:Conseil de classe
END:VEVENT
BEGIN:VEVENT
DTSTART;TZID=Indian/Reunion:20230616T162000
DTEND;TZID=Indian/Reunion:20230616T172000
DTSTAMP:20260424T232850
CREATED:20230607T064609Z
LAST-MODIFIED:20230613T045803Z
UID:10144-1686932400-1686936000@etab.ac-reunion.fr
SUMMARY:Conseil de classe S2 4° Fanjan
DESCRIPTION:
URL:https://etab.ac-reunion.fr/clg-adam-de-villiers/event/conseil-de-classe-s2-4-fanjan-2/
CATEGORIES:Conseil de classe
END:VEVENT
BEGIN:VEVENT
DTSTART;TZID=Indian/Reunion:20230619T074500
DTEND;TZID=Indian/Reunion:20230619T123000
DTSTAMP:20260424T232850
CREATED:20230613T045752Z
LAST-MODIFIED:20230613T050426Z
UID:10297-1687160700-1687177800@etab.ac-reunion.fr
SUMMARY:Sortie pédagogique à Acroroc
DESCRIPTION:Elèves concernés : 50 élèves de 5°\, 4° et 3° \n\n\n\nLieu : Acroroc (St Pierre) \n\n\n\nAccompagnateurs : Mme Ruellan\, M. Foncarnier\, Mme Jono et M. Mazzoli
URL:https://etab.ac-reunion.fr/clg-adam-de-villiers/event/sortie-pedagogique-a-acroroc/
CATEGORIES:Disciplines sportives,Sortie pédagogique
END:VEVENT
BEGIN:VEVENT
DTSTART;TZID=Indian/Reunion:20230619T092000
DTEND;TZID=Indian/Reunion:20230619T161000
DTSTAMP:20260424T232850
CREATED:20230613T050829Z
LAST-MODIFIED:20230613T051137Z
UID:10301-1687166400-1687191000@etab.ac-reunion.fr
SUMMARY:Accueil des CM2
DESCRIPTION:
URL:https://etab.ac-reunion.fr/clg-adam-de-villiers/event/accueil-des-cm2/
CATEGORIES:Pédagogie,Vie scolaire
END:VEVENT
BEGIN:VEVENT
DTSTART;TZID=Indian/Reunion:20230619T141500
DTEND;TZID=Indian/Reunion:20230619T152500
DTSTAMP:20260424T232850
CREATED:20230613T052949Z
LAST-MODIFIED:20230613T053629Z
UID:10319-1687184100-1687188300@etab.ac-reunion.fr
SUMMARY:Conseil de classe S2 5° Vanille
DESCRIPTION:
URL:https://etab.ac-reunion.fr/clg-adam-de-villiers/event/conseil-de-classe-5-vanille/
CATEGORIES:Conseil de classe
END:VEVENT
BEGIN:VEVENT
DTSTART;TZID=Indian/Reunion:20230619T141500
DTEND;TZID=Indian/Reunion:20230619T152500
DTSTAMP:20260424T232850
CREATED:20230613T053131Z
LAST-MODIFIED:20230613T053144Z
UID:10321-1687184100-1687188300@etab.ac-reunion.fr
SUMMARY:Conseil de classe 4° Tamarin
DESCRIPTION:
URL:https://etab.ac-reunion.fr/clg-adam-de-villiers/event/conseil-de-classe-tamarin/
CATEGORIES:Conseil de classe
END:VEVENT
BEGIN:VEVENT
DTSTART;TZID=Indian/Reunion:20230619T152500
DTEND;TZID=Indian/Reunion:20230619T163000
DTSTAMP:20260424T232850
CREATED:20230613T053233Z
LAST-MODIFIED:20230613T053616Z
UID:10324-1687188300-1687192200@etab.ac-reunion.fr
SUMMARY:Conseil de classe S2 4° Mahot
DESCRIPTION:
URL:https://etab.ac-reunion.fr/clg-adam-de-villiers/event/conseil-de-classe-4-mahot/
CATEGORIES:Conseil de classe
END:VEVENT
BEGIN:VEVENT
DTSTART;TZID=Indian/Reunion:20230619T152500
DTEND;TZID=Indian/Reunion:20230619T163000
DTSTAMP:20260424T232850
CREATED:20230613T053329Z
LAST-MODIFIED:20230613T053604Z
UID:10326-1687188300-1687192200@etab.ac-reunion.fr
SUMMARY:Conseil de classe S2 5° Ylang
DESCRIPTION:
URL:https://etab.ac-reunion.fr/clg-adam-de-villiers/event/conseil-de-classe-5-ylang/
CATEGORIES:Conseil de classe
END:VEVENT
BEGIN:VEVENT
DTSTART;TZID=Indian/Reunion:20230619T163000
DTEND;TZID=Indian/Reunion:20230619T173000
DTSTAMP:20260424T232850
CREATED:20230613T053550Z
LAST-MODIFIED:20230613T053550Z
UID:10328-1687192200-1687195800@etab.ac-reunion.fr
SUMMARY:Conseil de classe S2 5° Géranium
DESCRIPTION:
URL:https://etab.ac-reunion.fr/clg-adam-de-villiers/event/conseil-de-classe-s2-5-geranium/
CATEGORIES:Conseil de classe
END:VEVENT
BEGIN:VEVENT
DTSTART;TZID=Indian/Reunion:20230619T163000
DTEND;TZID=Indian/Reunion:20230619T173000
DTSTAMP:20260424T232850
CREATED:20230613T053708Z
LAST-MODIFIED:20230613T053708Z
UID:10333-1687192200-1687195800@etab.ac-reunion.fr
SUMMARY:Conseil de classe S2 4° Palmiste
DESCRIPTION:
URL:https://etab.ac-reunion.fr/clg-adam-de-villiers/event/conseil-de-classe-s2-4-palmiste-2/
CATEGORIES:Conseil de classe
END:VEVENT
BEGIN:VEVENT
DTSTART;TZID=Indian/Reunion:20230620T131500
DTEND;TZID=Indian/Reunion:20230620T160000
DTSTAMP:20260424T232850
CREATED:20230613T050946Z
LAST-MODIFIED:20230613T051112Z
UID:10303-1687266900-1687276800@etab.ac-reunion.fr
SUMMARY:Fête du Collège
DESCRIPTION:
URL:https://etab.ac-reunion.fr/clg-adam-de-villiers/event/fete-du-college-2/
CATEGORIES:Vie scolaire
END:VEVENT
BEGIN:VEVENT
DTSTART;TZID=Indian/Reunion:20230620T170000
DTEND;TZID=Indian/Reunion:20230620T190000
DTSTAMP:20260424T232850
CREATED:20230613T051232Z
LAST-MODIFIED:20230613T051232Z
UID:10305-1687280400-1687287600@etab.ac-reunion.fr
SUMMARY:Conseil d'Administration
DESCRIPTION:
URL:https://etab.ac-reunion.fr/clg-adam-de-villiers/event/conseil-dadministration-11/
CATEGORIES:Administration
END:VEVENT
BEGIN:VEVENT
DTSTART;TZID=Indian/Reunion:20230622T073000
DTEND;TZID=Indian/Reunion:20230622T162000
DTSTAMP:20260424T232850
CREATED:20230613T051618Z
LAST-MODIFIED:20230613T051618Z
UID:10307-1687419000-1687450800@etab.ac-reunion.fr
SUMMARY:Epreuves orales du DNB 2023
DESCRIPTION:Selon les horaires de convocation
URL:https://etab.ac-reunion.fr/clg-adam-de-villiers/event/epreuves-orales-du-dnb-2023/
CATEGORIES:Examen DNB
END:VEVENT
BEGIN:VEVENT
DTSTART;TZID=Indian/Reunion:20230623T080000
DTEND;TZID=Indian/Reunion:20230623T090000
DTSTAMP:20260424T232850
CREATED:20230613T053813Z
LAST-MODIFIED:20230613T053813Z
UID:10335-1687507200-1687510800@etab.ac-reunion.fr
SUMMARY:Conseil de classe S2 6° Babouk
DESCRIPTION:
URL:https://etab.ac-reunion.fr/clg-adam-de-villiers/event/conseil-de-classe-s2-6-babouk-2/
CATEGORIES:Conseil de classe
END:VEVENT
BEGIN:VEVENT
DTSTART;TZID=Indian/Reunion:20230623T090000
DTEND;TZID=Indian/Reunion:20230623T100000
DTSTAMP:20260424T232850
CREATED:20230613T053856Z
LAST-MODIFIED:20230613T053856Z
UID:10337-1687510800-1687514400@etab.ac-reunion.fr
SUMMARY:Conseil de classe S2 6° Capucin
DESCRIPTION:
URL:https://etab.ac-reunion.fr/clg-adam-de-villiers/event/conseil-de-classe-s2-6-capucin-2/
CATEGORIES:Conseil de classe
END:VEVENT
BEGIN:VEVENT
DTSTART;TZID=Indian/Reunion:20230623T100000
DTEND;TZID=Indian/Reunion:20230623T110000
DTSTAMP:20260424T232850
CREATED:20230613T053942Z
LAST-MODIFIED:20230613T053942Z
UID:10339-1687514400-1687518000@etab.ac-reunion.fr
SUMMARY:Conseil de classe S2 6° Corail
DESCRIPTION:
URL:https://etab.ac-reunion.fr/clg-adam-de-villiers/event/conseil-de-classe-s2-6-corail-2/
CATEGORIES:Conseil de classe
END:VEVENT
BEGIN:VEVENT
DTSTART;TZID=Indian/Reunion:20230623T110000
DTEND;TZID=Indian/Reunion:20230623T120000
DTSTAMP:20260424T232850
CREATED:20230613T054014Z
LAST-MODIFIED:20230613T054014Z
UID:10341-1687518000-1687521600@etab.ac-reunion.fr
SUMMARY:Conseil de classe S2 6° Gecko
DESCRIPTION:
URL:https://etab.ac-reunion.fr/clg-adam-de-villiers/event/conseil-de-classe-s2-6-gecko-2/
CATEGORIES:Conseil de classe
END:VEVENT
BEGIN:VEVENT
DTSTART;TZID=Indian/Reunion:20230623T133000
DTEND;TZID=Indian/Reunion:20230623T143000
DTSTAMP:20260424T232850
CREATED:20230613T054058Z
LAST-MODIFIED:20230613T054058Z
UID:10343-1687527000-1687530600@etab.ac-reunion.fr
SUMMARY:Conseil de classe S2 6° Tect-tec
DESCRIPTION:
URL:https://etab.ac-reunion.fr/clg-adam-de-villiers/event/conseil-de-classe-s2-6-tect-tec/
CATEGORIES:Conseil de classe
END:VEVENT
END:VCALENDAR