BEGIN:VCALENDAR
VERSION:2.0
PRODID:-//Collège Emilien Adam de Villiers - ECPv6.15.20//NONSGML v1.0//EN
CALSCALE:GREGORIAN
METHOD:PUBLISH
X-ORIGINAL-URL:https://etab.ac-reunion.fr/clg-adam-de-villiers
X-WR-CALDESC:Évènements pour Collège Emilien Adam de Villiers
REFRESH-INTERVAL;VALUE=DURATION:PT1H
X-Robots-Tag:noindex
X-PUBLISHED-TTL:PT1H
BEGIN:VTIMEZONE
TZID:Indian/Reunion
BEGIN:STANDARD
TZOFFSETFROM:+0400
TZOFFSETTO:+0400
TZNAME:+04
DTSTART:20220101T000000
END:STANDARD
END:VTIMEZONE
BEGIN:VEVENT
DTSTART;TZID=Indian/Reunion:20231002T080000
DTEND;TZID=Indian/Reunion:20231002T114000
DTSTAMP:20260424T174800
CREATED:20231002T152005Z
LAST-MODIFIED:20231002T152006Z
UID:10606-1696233600-1696246800@etab.ac-reunion.fr
SUMMARY:Sortie pédagogique 3° LCA et 5° Géranium
DESCRIPTION:Elèves concernés : 3° LCA et 5° Géranium \n\n\n\nLieu : Cinéma du Moulin à café (Ravine des Cabris) \n\n\n\nAccompagnateurs : Mme Sibari et Mme Désiré
URL:https://etab.ac-reunion.fr/clg-adam-de-villiers/event/sortie-pedagogique-3-lca-et-5-geranium/
CATEGORIES:Disciplines linguistiques,Sortie pédagogique
END:VEVENT
BEGIN:VEVENT
DTSTART;TZID=Indian/Reunion:20231002T080000
DTEND;TZID=Indian/Reunion:20231002T150000
DTSTAMP:20260424T174800
CREATED:20231002T151631Z
LAST-MODIFIED:20231002T151632Z
UID:10604-1696233600-1696258800@etab.ac-reunion.fr
SUMMARY:Sortie pédagogique 5° Vanille
DESCRIPTION:Elèves concernés : 5° Vanille \n\n\n\nLieu : Les Makes (St Louis) \n\n\n\nAccompagnateurs : Mme Jono et M. Foncarnier
URL:https://etab.ac-reunion.fr/clg-adam-de-villiers/event/sortie-pedagogique-5-vanille-2/
CATEGORIES:Disciplines sportives,Sortie pédagogique
END:VEVENT
BEGIN:VEVENT
DTSTART;TZID=Indian/Reunion:20231004T091000
DTEND;TZID=Indian/Reunion:20231004T113000
DTSTAMP:20260424T174800
CREATED:20231002T152319Z
LAST-MODIFIED:20231002T152320Z
UID:10608-1696410600-1696419000@etab.ac-reunion.fr
SUMMARY:Sortie pédagogique LCA 3° Mascarin
DESCRIPTION:Elèves concernés : option LCA 3° Mascarin \n\n\n\nLieu : Mairie annexe de Piton Montvert les Bas (St Pierre) \n\n\n\nAccompagnateurs : Mme Sibari et M. Grondin
URL:https://etab.ac-reunion.fr/clg-adam-de-villiers/event/sortie-pedagogique-lca-3-mascarin/
CATEGORIES:Disciplines linguistiques,Sortie pédagogique
END:VEVENT
BEGIN:VEVENT
DTSTART;TZID=Indian/Reunion:20231009T073000
DTEND;TZID=Indian/Reunion:20231009T151000
DTSTAMP:20260424T174800
CREATED:20231002T152644Z
LAST-MODIFIED:20231002T152644Z
UID:10610-1696836600-1696864200@etab.ac-reunion.fr
SUMMARY:Sortie pédagogique 4° Fanjan
DESCRIPTION:Elèves concernés : 4° Fanjan \n\n\n\nLieu : VTT Forêt Etang Salé \n\n\n\nAccompagnateurs : M. Foncarnier\, M. Mazzoli et Mme Léocadie
URL:https://etab.ac-reunion.fr/clg-adam-de-villiers/event/sortie-pedagogique-4-fanjan-3/
CATEGORIES:Disciplines sportives,Sortie pédagogique
END:VEVENT
BEGIN:VEVENT
DTSTART;TZID=Indian/Reunion:20231009T080000
DTEND;TZID=Indian/Reunion:20231013T170000
DTSTAMP:20260424T174800
CREATED:20231002T153941Z
LAST-MODIFIED:20231002T153941Z
UID:10622-1696838400-1697216400@etab.ac-reunion.fr
SUMMARY:Spirit Week
DESCRIPTION:
URL:https://etab.ac-reunion.fr/clg-adam-de-villiers/event/spirit-week-2/
CATEGORIES:Disciplines linguistiques
END:VEVENT
BEGIN:VEVENT
DTSTART;TZID=Indian/Reunion:20231010T073000
DTEND;TZID=Indian/Reunion:20231010T150000
DTSTAMP:20260424T174800
CREATED:20231002T152853Z
LAST-MODIFIED:20231002T152853Z
UID:10612-1696923000-1696950000@etab.ac-reunion.fr
SUMMARY:Sortie pédagogique 5° Baie-Rose
DESCRIPTION:Elèves concernés : 5° Baie-Rose \n\n\n\nLieu : Les Makes (St Louis) \n\n\n\nAccompagnateurs : M. Mazzoli\, et M. Foncarnier
URL:https://etab.ac-reunion.fr/clg-adam-de-villiers/event/sortie-pedagogique-5-baie-rose-2/
CATEGORIES:Disciplines sportives,Sortie pédagogique
END:VEVENT
BEGIN:VEVENT
DTSTART;TZID=Indian/Reunion:20231010T080000
DTEND;TZID=Indian/Reunion:20231010T150000
DTSTAMP:20260424T174800
CREATED:20231002T153322Z
LAST-MODIFIED:20231002T153322Z
UID:10616-1696924800-1696950000@etab.ac-reunion.fr
SUMMARY:Sortie pédagogique Eco-délégués
DESCRIPTION:Elèves concernés : Eco-délégués \n\n\n\nLieu : Jardin Botanique de Mascarin (St Leu) \n\n\n\nAccompagnateurs : M. Vandeschricke et M. Payet
URL:https://etab.ac-reunion.fr/clg-adam-de-villiers/event/sortie-pedagogique-eco-delegues-2/
CATEGORIES:EDD,Sortie pédagogique
END:VEVENT
BEGIN:VEVENT
DTSTART;TZID=Indian/Reunion:20231010T080000
DTEND;TZID=Indian/Reunion:20231010T153000
DTSTAMP:20260424T174800
CREATED:20231002T153115Z
LAST-MODIFIED:20231002T153116Z
UID:10614-1696924800-1696951800@etab.ac-reunion.fr
SUMMARY:Sortie pédagogique 5° Vanille et 5° Vétiver
DESCRIPTION:Elèves concernés : 5° Vanille et 5° Vétiver \n\n\n\nLieu : Cité du volcan (Tampon Bourg Murat) \n\n\n\nAccompagnateurs : Mme Caro\, Mme léger et Mme Duquesne
URL:https://etab.ac-reunion.fr/clg-adam-de-villiers/event/sortie-pedagogique-5-vanille-et-5-vetiver/
CATEGORIES:Disciplines scientifiques,Sortie pédagogique
END:VEVENT
BEGIN:VEVENT
DTSTART;TZID=Indian/Reunion:20231012T124500
DTEND;TZID=Indian/Reunion:20231012T161500
DTSTAMP:20260424T174800
CREATED:20231002T153658Z
LAST-MODIFIED:20231002T153658Z
UID:10618-1697114700-1697127300@etab.ac-reunion.fr
SUMMARY:Sortie pédagogique Toutes les 5° sauf 5° Géranium
DESCRIPTION:Elèves concernés : Toutes les 5° sauf la 5° Géranium \n\n\n\nLieu : Cinéma Lucet Langenier (St Pierre) \n\n\n\nAccompagnateurs : M. Pointeau\, Mme Naheli\, Mme Dufaud\, Mme Désiré\, Mme Prunier\, Mme Viry et Mme Tovagliaro
URL:https://etab.ac-reunion.fr/clg-adam-de-villiers/event/sortie-pedagogique-toutes-les-5-sauf-5-geranium/
CATEGORIES:Disciplines linguistiques,Sortie pédagogique
END:VEVENT
BEGIN:VEVENT
DTSTART;TZID=Indian/Reunion:20231013T080000
DTEND;TZID=Indian/Reunion:20231013T150000
DTSTAMP:20260424T174800
CREATED:20231002T153911Z
LAST-MODIFIED:20231002T153911Z
UID:10620-1697184000-1697209200@etab.ac-reunion.fr
SUMMARY:Sortie pédagogique 5° Safran
DESCRIPTION:Elèves concernés : 5° Safran \n\n\n\nLieu : Les Makes (St Louis) \n\n\n\nAccompagnateurs : M. Corporin et M. Mazzoli
URL:https://etab.ac-reunion.fr/clg-adam-de-villiers/event/sortie-pedagogique-5-safran/
CATEGORIES:Disciplines sportives,Sortie pédagogique
END:VEVENT
END:VCALENDAR