BEGIN:VCALENDAR
VERSION:2.0
PRODID:-//Collège Emilien Adam de Villiers - ECPv6.15.20//NONSGML v1.0//EN
CALSCALE:GREGORIAN
METHOD:PUBLISH
X-ORIGINAL-URL:https://etab.ac-reunion.fr/clg-adam-de-villiers
X-WR-CALDESC:Évènements pour Collège Emilien Adam de Villiers
REFRESH-INTERVAL;VALUE=DURATION:PT1H
X-Robots-Tag:noindex
X-PUBLISHED-TTL:PT1H
BEGIN:VTIMEZONE
TZID:Indian/Reunion
BEGIN:STANDARD
TZOFFSETFROM:+0400
TZOFFSETTO:+0400
TZNAME:+04
DTSTART:20220101T000000
END:STANDARD
END:VTIMEZONE
BEGIN:VEVENT
DTSTART;TZID=Indian/Reunion:20231102T080000
DTEND;TZID=Indian/Reunion:20231102T153000
DTSTAMP:20260424T162300
CREATED:20231102T065235Z
LAST-MODIFIED:20231102T065348Z
UID:10678-1698912000-1698939000@etab.ac-reunion.fr
SUMMARY:Sortie pédagogique 5° Géranium et 5° Ylang
DESCRIPTION:Elèves concernés : 5° Géranium et 5° Ylang \n\n\n\nLieu : La Cité du Volcan (Le Tampon) \n\n\n\nAccompagnateurs : Mme Caro V.\, Mme Naheli et Mme Payet I.
URL:https://etab.ac-reunion.fr/clg-adam-de-villiers/event/sortie-pedagogique-cite-du-volcan-2/
CATEGORIES:Disciplines scientifiques,Sortie pédagogique
END:VEVENT
BEGIN:VEVENT
DTSTART;TZID=Indian/Reunion:20231103T080000
DTEND;TZID=Indian/Reunion:20231103T150000
DTSTAMP:20260424T162300
CREATED:20231102T065606Z
LAST-MODIFIED:20231102T065606Z
UID:10682-1698998400-1699023600@etab.ac-reunion.fr
SUMMARY:Sortie pédagogique 5° Géranium
DESCRIPTION:Elèves concernés : 5° Géranium \n\n\n\nLieu : Les Makes (St Louis) \n\n\n\nAccompagnateurs : Mme Ruellan\, M. Corporin et Mme Duquesne
URL:https://etab.ac-reunion.fr/clg-adam-de-villiers/event/sortie-pedagogique-5-geranium-2/
CATEGORIES:Disciplines sportives,Sortie pédagogique
END:VEVENT
BEGIN:VEVENT
DTSTART;TZID=Indian/Reunion:20231106T073000
DTEND;TZID=Indian/Reunion:20231106T151000
DTSTAMP:20260424T162300
CREATED:20231102T065937Z
LAST-MODIFIED:20231102T065937Z
UID:10684-1699255800-1699283400@etab.ac-reunion.fr
SUMMARY:Sortie pédagogique 5° Vétiver
DESCRIPTION:Elèves concernés : 5° Vétiver \n\n\n\nLieu : Les Makes (St Louis) \n\n\n\nAccompagnateurs : M. Foncarnier et Mme Jono
URL:https://etab.ac-reunion.fr/clg-adam-de-villiers/event/sortie-pedagogique-5-vetiver/
CATEGORIES:Disciplines sportives,Sortie pédagogique
END:VEVENT
BEGIN:VEVENT
DTSTART;TZID=Indian/Reunion:20231106T080000
DTEND;TZID=Indian/Reunion:20231106T123000
DTSTAMP:20260424T162300
CREATED:20231102T070227Z
LAST-MODIFIED:20231102T070227Z
UID:10686-1699257600-1699273800@etab.ac-reunion.fr
SUMMARY:Sortie pédagogique 6° Tuit-Tuit
DESCRIPTION:Elèves concernés : 6° Tuit-Tuit \n\n\n\nLieu : Domaine Vidot (Le Tampon) \n\n\n\nAccompagnateurs : Mme Ruellan\, Mme Van Den Bosche et Mme Léocadie
URL:https://etab.ac-reunion.fr/clg-adam-de-villiers/event/sortie-pedagogique-6-tuit-tuit-2/
CATEGORIES:Sortie pédagogique
END:VEVENT
BEGIN:VEVENT
DTSTART;TZID=Indian/Reunion:20231107T081500
DTEND;TZID=Indian/Reunion:20231107T150000
DTSTAMP:20260424T162300
CREATED:20231109T042653Z
LAST-MODIFIED:20231109T042653Z
UID:10699-1699344900-1699369200@etab.ac-reunion.fr
SUMMARY:Sortie pédagogique 6° Gecko et 6° Tuit-Tuit
DESCRIPTION:Elèves concernés : 6° Gecko et 6° Tuit-Tuit \n\n\n\nLieu : Le Vieux Domaine (St Pierre) \n\n\n\nAccompagnateurs : M. Ramsamy\, M. Payet P.\, Mme Anzoully et Mme Kondoki
URL:https://etab.ac-reunion.fr/clg-adam-de-villiers/event/sortie-pedagogique-6-gecko-et-6-tuit-tuit/
CATEGORIES:Disciplines linguistiques,Disciplines scientifiques,Sortie pédagogique
END:VEVENT
BEGIN:VEVENT
DTSTART;TZID=Indian/Reunion:20231107T083000
DTEND;TZID=Indian/Reunion:20231107T111500
DTSTAMP:20260424T162300
CREATED:20231102T070507Z
LAST-MODIFIED:20231102T070507Z
UID:10688-1699345800-1699355700@etab.ac-reunion.fr
SUMMARY:Sortie pédagogique Option Danse
DESCRIPTION:Elèves concernés : élèves de l’Option Danse \n\n\n\nLieu : Théatre de Pierrefonds (Saint Pierre) \n\n\n\nAccompagnateurs : Mme Jono et Mme Ksouri (parent d’élève)
URL:https://etab.ac-reunion.fr/clg-adam-de-villiers/event/sortie-pedagogique-option-danse/
CATEGORIES:Disciplines artistiques,Sortie pédagogique
END:VEVENT
BEGIN:VEVENT
DTSTART;TZID=Indian/Reunion:20231107T083000
DTEND;TZID=Indian/Reunion:20231107T150000
DTSTAMP:20260424T162300
CREATED:20231102T071133Z
LAST-MODIFIED:20231102T071134Z
UID:10692-1699345800-1699369200@etab.ac-reunion.fr
SUMMARY:Sortie pédagogique 3° Sterne
DESCRIPTION:Elèves concernés : 3° Sterne \n\n\n\nLieu : Le vieux domaine (Saint Pierre) \n\n\n\nAccompagnateurs : Mme Caro P. et M. Vinchon
URL:https://etab.ac-reunion.fr/clg-adam-de-villiers/event/sortie-pedagogique-3-sterne-4/
CATEGORIES:Disciplines humanistes,Sortie pédagogique
END:VEVENT
BEGIN:VEVENT
DTSTART;TZID=Indian/Reunion:20231109T080000
DTEND;TZID=Indian/Reunion:20231109T151000
DTSTAMP:20260424T162300
CREATED:20231102T070837Z
LAST-MODIFIED:20231102T070837Z
UID:10690-1699516800-1699542600@etab.ac-reunion.fr
SUMMARY:Sortie pédagogique 5° Baie-Rose
DESCRIPTION:Elèves concernés : 5° Baie-Rose \n\n\n\nLieu : Tamarinaie Ravine Blanche (Le Tampon) \n\n\n\nAccompagnateurs : Mme Lecrosnier et Mme Ruellan
URL:https://etab.ac-reunion.fr/clg-adam-de-villiers/event/sortie-pedagogique-5-baie-rose-3/
CATEGORIES:Sortie pédagogique
END:VEVENT
BEGIN:VEVENT
DTSTART;TZID=Indian/Reunion:20231114T083000
DTEND;TZID=Indian/Reunion:20231114T114000
DTSTAMP:20260424T162300
CREATED:20231109T043011Z
LAST-MODIFIED:20231109T043234Z
UID:10701-1699950600-1699962000@etab.ac-reunion.fr
SUMMARY:Sortie pédagogique Option EMI
DESCRIPTION:Elèves concernés : Option EMI \n\n\n\nLieu : Médiathèque de Grand Bois (St Pierre) \n\n\n\nAccompagnateurs : Mme Léger et M. Rassaby
URL:https://etab.ac-reunion.fr/clg-adam-de-villiers/event/sortie-pedagogique-option-emi-2/
CATEGORIES:EMI,Sortie pédagogique
END:VEVENT
BEGIN:VEVENT
DTSTART;TZID=Indian/Reunion:20231117T072500
DTEND;TZID=Indian/Reunion:20231117T151000
DTSTAMP:20260424T162300
CREATED:20231109T043208Z
LAST-MODIFIED:20231109T043248Z
UID:10703-1700205900-1700233800@etab.ac-reunion.fr
SUMMARY:Sortie pédagogique Latinistes 5° Géranium
DESCRIPTION:Elèves concernés : \n\n\n\nLieu : \n\n\n\nAccompagnatrice : Mme Sibari
URL:https://etab.ac-reunion.fr/clg-adam-de-villiers/event/sortie-pedagogique-latinistes-5-geranium/
CATEGORIES:Disciplines linguistiques,Sortie pédagogique
END:VEVENT
BEGIN:VEVENT
DTSTART;TZID=Indian/Reunion:20231117T080000
DTEND;TZID=Indian/Reunion:20231117T150000
DTSTAMP:20260424T162300
CREATED:20231109T043435Z
LAST-MODIFIED:20231109T043435Z
UID:10705-1700208000-1700233200@etab.ac-reunion.fr
SUMMARY:Sortie pédagogique 6° Gecko
DESCRIPTION:Elèves concernés : 6° Gecko \n\n\n\nLieu : Cap La Houssaye (Saint Paul) \n\n\n\nAccompagnateurs : M. Mazzoli et M. Corporin
URL:https://etab.ac-reunion.fr/clg-adam-de-villiers/event/sortie-pedagogique-6-gecko-3/
CATEGORIES:Disciplines sportives,Sortie pédagogique
END:VEVENT
BEGIN:VEVENT
DTSTART;TZID=Indian/Reunion:20231121T083000
DTEND;TZID=Indian/Reunion:20231121T150000
DTSTAMP:20260424T162300
CREATED:20231113T135602Z
LAST-MODIFIED:20231113T140024Z
UID:10711-1700555400-1700578800@etab.ac-reunion.fr
SUMMARY:Sortie pédagogique 5° Baie-Rose
DESCRIPTION:Elèves concernés : 5° Baie-Rose \n\n\n\nLieu : Chemin Calbanon (Saint-Pierre) \n\n\n\nAccompagnateurs : Mme Quenou et Mme Anzoully
URL:https://etab.ac-reunion.fr/clg-adam-de-villiers/event/sortie-pedagogique-5-baie-rose-4/
CATEGORIES:Disciplines linguistiques,Sortie pédagogique
END:VEVENT
BEGIN:VEVENT
DTSTART;TZID=Indian/Reunion:20231121T123000
DTEND;TZID=Indian/Reunion:20231121T161500
DTSTAMP:20260424T162300
CREATED:20231113T140008Z
LAST-MODIFIED:20231113T140008Z
UID:10713-1700569800-1700583300@etab.ac-reunion.fr
SUMMARY:Sortie pédagogique 6°
DESCRIPTION:Elèves concernés :  \n\n\n\nLieu : Ecran Jeunes Moulin à Café (Saint-Pierre) \n\n\n\nAccompagnateurs : M. Pointeau\, Mme Léocadie\, M. Ramsamy\, M. Caro\, Mme Caro V. et Mme Duquesne
URL:https://etab.ac-reunion.fr/clg-adam-de-villiers/event/sortie-pedagogique-6/
CATEGORIES:Disciplines artistiques,Disciplines humanistes,Sortie pédagogique
END:VEVENT
BEGIN:VEVENT
DTSTART;TZID=Indian/Reunion:20231123T080000
DTEND;TZID=Indian/Reunion:20231123T150000
DTSTAMP:20260424T162300
CREATED:20231113T140239Z
LAST-MODIFIED:20231113T140239Z
UID:10715-1700726400-1700751600@etab.ac-reunion.fr
SUMMARY:Sortie pédagogique Délégués élèves 6° et 5°
DESCRIPTION:Elèves concernés : délégués de 6° et 5° \n\n\n\nLieu : Médiathèque de Grand Bois (Saint-Pierre) \n\n\n\nAccompagnateurs : M. Bigot\, Mme Miladi et Mme Blard
URL:https://etab.ac-reunion.fr/clg-adam-de-villiers/event/sortie-pedagogique-delegues-eleves-6-et-5/
CATEGORIES:Sortie pédagogique,Vie scolaire
END:VEVENT
BEGIN:VEVENT
DTSTART;TZID=Indian/Reunion:20231124T080000
DTEND;TZID=Indian/Reunion:20231124T114000
DTSTAMP:20260424T162300
CREATED:20231113T140726Z
LAST-MODIFIED:20231113T140726Z
UID:10719-1700812800-1700826000@etab.ac-reunion.fr
SUMMARY:Sortie pédagogique 4° Latanier et 3° Sterne
DESCRIPTION:Elèves concernés : 4° Latanier et 3° Sterne \n\n\n\nLieu : Cinéma Rex (Saint-Pierre) \n\n\n\nAccompagnateurs : Mme Quenou\, M. Caro et M. Grondin
URL:https://etab.ac-reunion.fr/clg-adam-de-villiers/event/sortie-pedagogique-4-latanier-et-3-sterne/
CATEGORIES:Disciplines artistiques,Disciplines humanistes,Sortie pédagogique
END:VEVENT
BEGIN:VEVENT
DTSTART;TZID=Indian/Reunion:20231124T080000
DTEND;TZID=Indian/Reunion:20231124T150000
DTSTAMP:20260424T162300
CREATED:20231113T140434Z
LAST-MODIFIED:20231113T140434Z
UID:10717-1700812800-1700838000@etab.ac-reunion.fr
SUMMARY:Sortie pédagogique 4° Fanjan et 4° Mahot
DESCRIPTION:Elèves concernés : 4° Fanjan et 4° Mahot \n\n\n\nLieu : Musée de Stella Matutina (Saint-Leu) \n\n\n\nAccompagnateurs : Mme Caro P. et M. Delchet
URL:https://etab.ac-reunion.fr/clg-adam-de-villiers/event/sortie-pedagogique-4-fanjan-et-4-mahot-2/
CATEGORIES:Disciplines humanistes,Sortie pédagogique
END:VEVENT
BEGIN:VEVENT
DTSTART;TZID=Indian/Reunion:20231128T173000
DTEND;TZID=Indian/Reunion:20231128T183000
DTSTAMP:20260424T162300
CREATED:20231202T075057Z
LAST-MODIFIED:20231202T075058Z
UID:10785-1701192600-1701196200@etab.ac-reunion.fr
SUMMARY:Conseil d'Administration
DESCRIPTION:
URL:https://etab.ac-reunion.fr/clg-adam-de-villiers/event/conseil-dadministration-12/
CATEGORIES:Administration
END:VEVENT
END:VCALENDAR